BEGIN:VCALENDAR
VERSION:2.0
PRODID:-//JPI Urban Europe - ECPv6.15.20//NONSGML v1.0//EN
CALSCALE:GREGORIAN
METHOD:PUBLISH
X-ORIGINAL-URL:https://jpi-urbaneurope.eu
X-WR-CALDESC:Events for JPI Urban Europe
REFRESH-INTERVAL;VALUE=DURATION:PT1H
X-Robots-Tag:noindex
X-PUBLISHED-TTL:PT1H
BEGIN:VTIMEZONE
TZID:Europe/Vienna
BEGIN:DAYLIGHT
TZOFFSETFROM:+0100
TZOFFSETTO:+0200
TZNAME:CEST
DTSTART:20230326T010000
END:DAYLIGHT
BEGIN:STANDARD
TZOFFSETFROM:+0200
TZOFFSETTO:+0100
TZNAME:CET
DTSTART:20231029T010000
END:STANDARD
BEGIN:DAYLIGHT
TZOFFSETFROM:+0100
TZOFFSETTO:+0200
TZNAME:CEST
DTSTART:20240331T010000
END:DAYLIGHT
BEGIN:STANDARD
TZOFFSETFROM:+0200
TZOFFSETTO:+0100
TZNAME:CET
DTSTART:20241027T010000
END:STANDARD
BEGIN:DAYLIGHT
TZOFFSETFROM:+0100
TZOFFSETTO:+0200
TZNAME:CEST
DTSTART:20250330T010000
END:DAYLIGHT
BEGIN:STANDARD
TZOFFSETFROM:+0200
TZOFFSETTO:+0100
TZNAME:CET
DTSTART:20251026T010000
END:STANDARD
END:VTIMEZONE
BEGIN:VEVENT
DTSTART;TZID=Europe/Vienna:20240513T100000
DTEND;TZID=Europe/Vienna:20240513T170000
DTSTAMP:20260423T110151
CREATED:20240419T122802Z
LAST-MODIFIED:20240419T122802Z
UID:24904-1715594400-1715619600@jpi-urbaneurope.eu
SUMMARY:SORTEDMOBILITY final event
DESCRIPTION:The SORTEDMOBILITY project has its project final event taking place in Paris\, Monday May 13th\, 2024\, 10am to 5pm. \nThe agenda for the day includes crash courses on cutting-edge research topics and the presentation of the project results. \nFor more information\, please visit the SORTEDMOBILITY project website: https://www.sortedmobility.eu/events.
URL:https://jpi-urbaneurope.eu/event-calendar/sortedmobility-final-event/
LOCATION:Paris\, France
CATEGORIES:ENUAC
END:VEVENT
BEGIN:VEVENT
DTSTART;VALUE=DATE:20240515
DTEND;VALUE=DATE:20240518
DTSTAMP:20260423T110151
CREATED:20240306T140122Z
LAST-MODIFIED:20240409T170614Z
UID:24719-1715731200-1715990399@jpi-urbaneurope.eu
SUMMARY:Joint event for the Sino-European projects (ENUAC)
DESCRIPTION:By invitation only\nJoint event for the eight Sino-European projects funded by the joint programming initiative Urban Europe (JPI Urban Europe) and the National Natural Science Foundation of China (NSFC) in the Sino-European programme of the ERA-Net Urban Accessibility and Connectivity (ENUAC). \nThe joint event offers the project partners an opportunity to meet each other for knowledge sharing\, strategic discussions and exchanges on impact\, and learning from the projects’ research and experiences so far. Furthermore\, information about communication\, support activities and requirements for the coming years will be discussed. The event is an opportunity for networking and community building among the eight Sino-European projects funded by JPI Urban Europe and NSFC. \nAims of the joint event: \n\nLearn from each other’s experiences\, insights and (intermediate) outcomes as well as from the wealth of experiences brought in by all participants;\nReflect on the projects’ impact plans;\nExchange views on the role of data and data sharing between European and Chinese researchers and institutes;\nExchange views on and find pragmatic options to strengthen the projects’ approach to other identified cross-cutting topics.\n\n  \nRegister here\n  \nProgram\n\nDay 1 | Wednesday 15 May 2024 \n09:30 Registration\, coffee & tea \n10:00 Welcome remarks by NSFC & JPI Urban Europe \n10:20 Warm-up & ‘speed dating’ \n10:45 Presentations from projects (I) – on ‘Sustainable Urban Logistics‘ \nQ&A (10 minutes) \n11:45 Group photo \n12:00 Lunch & poster viewing \n13:15 Presentation from projects (II) – on ‘Strengthening Climate-neutral Mobility‘ \nQ&A (10 minutes) \n14:15 Monitoring\, evaluation & learning\, Projects Contact Point \n14:45 Break \n15:00 ‘Marketplace’ – session for and by Chinese and European postdocs & PhD candidates \nActivity to find and map possible connections between the different projects \nProjects on ‘Sustainable Urban Logistics‘\nProjects on ‘Strengthening Climate-neutral Mobility‘ \n17:00 Wrap-up and key take-aways first day \n18:30 Networking dinner \n  \nDay 2 | Thursday 16 May 2024 \n08:30 Internal meetings per project \n11:00 Break \n11:15 Discussion in mixed breakout groups on cross-project collaborations & joint activities \n12:00 Lunch & poster viewing \n13:15 Dissemination & communication strategy \n13:45 Discussions on impact (I) \n14:30 Break \n14:45 Discussions on impact (II) \nPanel discussion \n15:15 Stakeholder engagement & needs of urban public authorities \nPanel discussion \nHybrid session \n16:00 Other things projects would like to raise (open session) \n16:30 Final remarks and end of the joint event \n18:30 Networking dinner \n  \nDay 3 | Friday morning 17 May 2024 \nSite visit(s) in Hangzhou \nFarewell lunch buffet
URL:https://jpi-urbaneurope.eu/event-calendar/mid-term-event-for-the-sino-european-projects-enuac/
LOCATION:Hangzhou\, China
CATEGORIES:ENUAC
END:VEVENT
END:VCALENDAR