BEGIN:VCALENDAR
VERSION:2.0
PRODID:-//JPI Urban Europe - ECPv6.15.20//NONSGML v1.0//EN
CALSCALE:GREGORIAN
METHOD:PUBLISH
X-ORIGINAL-URL:https://jpi-urbaneurope.eu
X-WR-CALDESC:Events for JPI Urban Europe
REFRESH-INTERVAL;VALUE=DURATION:PT1H
X-Robots-Tag:noindex
X-PUBLISHED-TTL:PT1H
BEGIN:VTIMEZONE
TZID:Europe/Vienna
BEGIN:DAYLIGHT
TZOFFSETFROM:+0100
TZOFFSETTO:+0200
TZNAME:CEST
DTSTART:20230326T010000
END:DAYLIGHT
BEGIN:STANDARD
TZOFFSETFROM:+0200
TZOFFSETTO:+0100
TZNAME:CET
DTSTART:20231029T010000
END:STANDARD
BEGIN:DAYLIGHT
TZOFFSETFROM:+0100
TZOFFSETTO:+0200
TZNAME:CEST
DTSTART:20240331T010000
END:DAYLIGHT
BEGIN:STANDARD
TZOFFSETFROM:+0200
TZOFFSETTO:+0100
TZNAME:CET
DTSTART:20241027T010000
END:STANDARD
BEGIN:DAYLIGHT
TZOFFSETFROM:+0100
TZOFFSETTO:+0200
TZNAME:CEST
DTSTART:20250330T010000
END:DAYLIGHT
BEGIN:STANDARD
TZOFFSETFROM:+0200
TZOFFSETTO:+0100
TZNAME:CET
DTSTART:20251026T010000
END:STANDARD
END:VTIMEZONE
BEGIN:VEVENT
DTSTART;TZID=Europe/Vienna:20240614T113000
DTEND;TZID=Europe/Vienna:20240614T130000
DTSTAMP:20260423T094901
CREATED:20240604T071808Z
LAST-MODIFIED:20240604T072645Z
UID:25026-1718364600-1718370000@jpi-urbaneurope.eu
SUMMARY:GeoSence Result Conference
DESCRIPTION:Welcome to the GeoSence Results Conference – learn more about how geofencing can be deployed in European cities! \n14 June at 11.30 to 13.00\, online. \nThe project will present lessons learned from use cases and take you through their developed guide\, filled with recommendations on dos and don’ts when implementing\, or working with geofencing. \nFor more information and registration\, please visit the project event website here: https://sv-se.eu.invajo.com/event/closer/geosenceresultconference \nFor more information about GeoSence\, visit the project webpage here.
URL:https://jpi-urbaneurope.eu/event-calendar/geosence-result-conference/
LOCATION:Online
CATEGORIES:ENUAC
END:VEVENT
END:VCALENDAR