BEGIN:VCALENDAR
VERSION:2.0
PRODID:-//JPI Urban Europe - ECPv6.15.20//NONSGML v1.0//EN
CALSCALE:GREGORIAN
METHOD:PUBLISH
X-WR-CALNAME:JPI Urban Europe
X-ORIGINAL-URL:https://jpi-urbaneurope.eu
X-WR-CALDESC:Events for JPI Urban Europe
REFRESH-INTERVAL;VALUE=DURATION:PT1H
X-Robots-Tag:noindex
X-PUBLISHED-TTL:PT1H
BEGIN:VTIMEZONE
TZID:Europe/Vienna
BEGIN:DAYLIGHT
TZOFFSETFROM:+0100
TZOFFSETTO:+0200
TZNAME:CEST
DTSTART:20230326T010000
END:DAYLIGHT
BEGIN:STANDARD
TZOFFSETFROM:+0200
TZOFFSETTO:+0100
TZNAME:CET
DTSTART:20231029T010000
END:STANDARD
BEGIN:DAYLIGHT
TZOFFSETFROM:+0100
TZOFFSETTO:+0200
TZNAME:CEST
DTSTART:20240331T010000
END:DAYLIGHT
BEGIN:STANDARD
TZOFFSETFROM:+0200
TZOFFSETTO:+0100
TZNAME:CET
DTSTART:20241027T010000
END:STANDARD
BEGIN:DAYLIGHT
TZOFFSETFROM:+0100
TZOFFSETTO:+0200
TZNAME:CEST
DTSTART:20250330T010000
END:DAYLIGHT
BEGIN:STANDARD
TZOFFSETFROM:+0200
TZOFFSETTO:+0100
TZNAME:CET
DTSTART:20251026T010000
END:STANDARD
END:VTIMEZONE
BEGIN:VEVENT
DTSTART;TZID=Europe/Vienna:20241128T130000
DTEND;TZID=Europe/Vienna:20241128T150000
DTSTAMP:20260423T010625
CREATED:20241104T085244Z
LAST-MODIFIED:20241106T090357Z
UID:25476-1732798800-1732806000@jpi-urbaneurope.eu
SUMMARY:ACUTE - ENUAC Knowledge Hub - Final Event
DESCRIPTION:Welcome to the Final Event of ACUTE and the Knowledge Hub project\, November 28th\, from 1pm-3pm CET (GMT/UTC+1)\, online. \nThe ACUTE team will present results of its working groups and a Knowledge Hub community platform for research programs. \nFor registration\, please send an email to: \nMag. Hans Häuslmayer: hh@h2pro.at \nor \nDr. Susanne Wrighton: susanne.wrighton@boku.ac.at \nMore information to come \nAbout ACUTE \nThe Knowledge Hub ACUTE has been established under the framework of ERA-NET Cofund Urban Accessibility and Connectivity (ENUAC). The project started in November 2022 and will last 2 years with a dedicated view to become a permanent contact point for the community. The project has extracted and consolidated knowledge of the ENUAC projects\, initiated efforts to support practitioners and brought together experts from different sectors. Read more about the project ACUTE here.
URL:https://jpi-urbaneurope.eu/event-calendar/acute-enuac-knowledge-hub-final-event/
LOCATION:Online
CATEGORIES:ENUAC
END:VEVENT
END:VCALENDAR