BEGIN:VCALENDAR
VERSION:2.0
PRODID:-//JPI Urban Europe - ECPv6.15.20//NONSGML v1.0//EN
CALSCALE:GREGORIAN
METHOD:PUBLISH
X-WR-CALNAME:JPI Urban Europe
X-ORIGINAL-URL:https://jpi-urbaneurope.eu
X-WR-CALDESC:Events for JPI Urban Europe
REFRESH-INTERVAL;VALUE=DURATION:PT1H
X-Robots-Tag:noindex
X-PUBLISHED-TTL:PT1H
BEGIN:VTIMEZONE
TZID:Europe/Vienna
BEGIN:DAYLIGHT
TZOFFSETFROM:+0100
TZOFFSETTO:+0200
TZNAME:CEST
DTSTART:20240331T010000
END:DAYLIGHT
BEGIN:STANDARD
TZOFFSETFROM:+0200
TZOFFSETTO:+0100
TZNAME:CET
DTSTART:20241027T010000
END:STANDARD
BEGIN:DAYLIGHT
TZOFFSETFROM:+0100
TZOFFSETTO:+0200
TZNAME:CEST
DTSTART:20250330T010000
END:DAYLIGHT
BEGIN:STANDARD
TZOFFSETFROM:+0200
TZOFFSETTO:+0100
TZNAME:CET
DTSTART:20251026T010000
END:STANDARD
BEGIN:DAYLIGHT
TZOFFSETFROM:+0100
TZOFFSETTO:+0200
TZNAME:CEST
DTSTART:20260329T010000
END:DAYLIGHT
BEGIN:STANDARD
TZOFFSETFROM:+0200
TZOFFSETTO:+0100
TZNAME:CET
DTSTART:20261025T010000
END:STANDARD
END:VTIMEZONE
BEGIN:VEVENT
DTSTART;TZID=Europe/Vienna:20250520T140000
DTEND;TZID=Europe/Vienna:20250520T180000
DTSTAMP:20260422T153948
CREATED:20250307T135001Z
LAST-MODIFIED:20250428T093446Z
UID:26077-1747749600-1747764000@jpi-urbaneurope.eu
SUMMARY:Final event: Innovations for Managing Sustainable Urban Accessibility
DESCRIPTION:Welcome to the ERA-NET Urban Accessibility and Connectivity additional call “Innovations for Managing Sustainable Urban Accessibility” Final Event (by invitation only).\n\nTime: 20 May 2025 – 14:00 – 18.00 pm (registration\, meet and greet with a light lunch from 13.00)\nLocation: Vienna House Andel’s\, Lodz\, Poland\, back-to-back with the Urban Futures conference (21-23 May) \nRegister here\n\nThe purpose of this event is to provide: \n\nA forum for exchange for all projects within the ENUAC co-funded call “Innovations for Managing Sustainable Urban Accessibility”\nInformation and workshops\, e.g. finding commonalities between projects (for example common challenges) in a creative setting\nPresenting and discussing projects’ research results and outcomes\nWider dissemination of the results at the Urban Futures conference\nIn addition\, we invite you to join the Urban Futures conference: The Better-Cities Event\, 21-23 May at no extra cost (tickets are provided for free). Please find more information below. Participants however need to pay for travels and hotels.\n\nImportant note\nWe expect 2-4 partners to travel to Lodz for the final event. \nPlease be aware that this event is by invitation only. Community building within the program is an important aim of the event\, and the invitation is therefore limited to researchers actively involved in the funded projects and their partners from outside academia also involved in the projects\, as well as the involved ENUAC National funding agencies and experts from the European Commission. \nAbout the Urban Futures Conference\nThe Urban Futures conference is an annual conference for city changers that attracts nearly 1000 participants from all over Europe. The conference puts inspirational real cases in the spotlight. For the JPI Urban Europe programme the Urban Futures conference is a highly relevant conference to use for communication and networking. You will also have the opportunity to join JPI UE/DUT lounge\, a space in the Lounge area for outreach\, community building and networking. Read more about the Urban Futures conference here. \nImportant note! You do not need to register for the Urban Futures conference. Your registration for the final event includes a ticket to the conference (if you wish to have one). When registering for the final event\, you will have the option to accept or decline a ticket. \nMore information on preparations and travel arrangements will follow shortly. \nAgenda\nThe program may be subject to change. \nTuesday\, 20 May 14.00-18.00 CEST \nMeeting Venue: Vienna House Andel’s in Lodz\, Poland \n13:00 Registration\, meet and greet with a light lunch.  \nOnline participants are recommended to check in 10 minutes before the event starts. \n14:00 Final event starts  \nWelcome and introduction to the program by Björn Svensby\, Vinnova\, and Johannes Bockstefl\, FFG. \nCheck-in participants expectations on the final event with joint reflections\, by Katarina Schylberg\, IQS. \n14:15 Focus on projects results and outcomes\n– Introduction to set up of this session\, by Katarina Schylberg\, IQS\n– Projects presentations followed by Q & A from learning partner\n– Feedback from active listening (We practice active listening in the sense that all participants are assigned to listen for certain aspects in each presentation (challenges\, key learnings\, methodological\, overall feelings/impressions). \n\n14:20 Presentation by TAAM – Opposition by ACCTRA\n14:40 Presentation by StreetForum – Opposition by TollsThatWork\n\n15:00 Break (10 minutes) \n\n15:10 Presentation by ACCTRA – Opposition by StreetForum\n15:30 Presentation by TollsThatWork – Opposition by TAAM\n\n15:50 Break with refreshments \n16:20 Joint reflection and synthesis\nChallenges\, key learnings and take aways\, methodological topics etc. Aim to explore (and map) commonalties across research topics and projects. Discussion led by Björn Svensby\, Vinnova.\n \n16:50 Presentations from the Mgmt Team\n– Highlights from project reports\, by Johannes Bockstefl\, FFG\n– DUT 15-minute City\, future call topics and activities\, by Maxi Jäger\, DUT 15mC TP coordinator\n \n17:15 Feedback\nFeedback on how the Innovations for Managing Sustainable Urban Accessibility call was set up and what can be improved for future DUT calls with similar focus. \n17:40 Wrapping up\n– Wrapping up\, feed-back on today’s meeting relating back to the expectations.\n– Tour de table on planned communication activities\, projects and ENUAC Communication team\, by Ida Mårtensson\, IQS. \n18:00 Final event ends \n19:00 – 21.00 Joint dinner and networking for onsite participants \n 
URL:https://jpi-urbaneurope.eu/event-calendar/final-event-innovations-for-managing-sustainable-urban-accessibility/
LOCATION:Lodz\, Poland
CATEGORIES:ENUAC
END:VEVENT
END:VCALENDAR