BEGIN:VCALENDAR
VERSION:2.0
PRODID:-//JPI Urban Europe - ECPv6.15.20//NONSGML v1.0//EN
CALSCALE:GREGORIAN
METHOD:PUBLISH
X-ORIGINAL-URL:https://jpi-urbaneurope.eu
X-WR-CALDESC:Events for JPI Urban Europe
REFRESH-INTERVAL;VALUE=DURATION:PT1H
X-Robots-Tag:noindex
X-PUBLISHED-TTL:PT1H
BEGIN:VTIMEZONE
TZID:UTC
BEGIN:STANDARD
TZOFFSETFROM:+0000
TZOFFSETTO:+0000
TZNAME:UTC
DTSTART:20220101T000000
END:STANDARD
END:VTIMEZONE
BEGIN:VEVENT
DTSTART;TZID=UTC:20230227T000000
DTEND;TZID=UTC:20230227T133000
DTSTAMP:20260424T004623
CREATED:20221116T083201Z
LAST-MODIFIED:20230305T174900Z
UID:22808-1677456000-1677504600@jpi-urbaneurope.eu
SUMMARY:Urban Lunch Talk & Information meeting – Envisioning a sustainable future theme: How do art and design unlock the full potential for urban transition?
DESCRIPTION:Welcome to an Urban Lunch Talk about building transformation capacities through art and design. With the new envisioned future theme\, the event will involve discussions on how to imagine a sustainable urban future with aesthetic perspectives and approaches. After the Urban lunch talk\, 12 am–1 pm\, short information of a new call about art and design will follow\, 1–1.30 pm.\nPlease observe that the date has been changed to 27 February 2023. The event is going to be performed as a Zoom webinar\, and you may save the event in your calendar (ics-file). \nClick here to register for the event in order to make sure being invited to upcoming Urban lunch talks and networking activities. \n>>Click here to go to the Zoom webinar (also without pre-registering).  \nAfter the Urban lunch talk\, an information meeting (1–1.30 pm) about a new call about art and design will follow in the Zoom webinar. \nThe webinar was recorded in Zoom\, and published for the JPI Urban Europe’s Youtube channel. \nNew envisioned future theme\nThe Urban Lunch Talk concept has newly shifted focus to the partnership Driving Urban Transition (DUT) part about sustainable futures. The upcoming talk will involve discussions about an envisioned future with art and design based on the latest research and innovation knowledge. How can urban dilemmas be addressed with aesthetics\, what is there to be achieved – what will a sustainable urban future be and look like? \nImagination as a tool for urban transformation\nOur current crisis is not only about the environment and the climate\, but also a crisis of the imagination. We seem simply not capable of imagining the sustainable societies of tomorrow\, but are stuck in current modes of thinking and old solutions that were perhaps useful to solve old problems. There is a need to emphasize the importance of imagination\, creativity and the cultural sector\, to support and enable the transformation of our societies towards a sustainable\, climate neutral and just future. \nThe thematics of art and design are closely linked to the upcoming call within the ERA-Net Cofund Urban Transformation Capacities (ENUTC) – learn more via the call pre-announcement. \nPanel guests\n• Cecilie Sachs Olsen\, Professor of Art in Society \nCementing the importance of the arts in imagining urban transformation\, Cecile researches the role of artistic practice in forming societal imaginaries and in materially making and shaping urban space\, lives and communities. Currently at the Department of Art\, Design and Drama at Oslo Metropolitan University\, she develops creative methods for urban research and explores how artistic practice can be used as a framework to analyse and re-imagine urban development\, space and politics. Cecile is also engaged in the JPI Urban Europe (ENUTC) project Conflict in Transformations (CONTRA)\, researching sustainable futures through arts-based methods\, conceptualized as “drama labs”\, as a new manifestation of urban living labs. \nWebsite: oslomet.no/en/about/employee/cecilies/ \n• Bettina Schwalm\, Experience Designer \nAs an Experience Designer\, Strategist and Researcher\, Bettina Schwalm has a long experience serving society\, culture and the environment. She is educating and coaching teams in innovation and future thinking\, always with a strong focus on behavioural studies. She is the Center Director for Konstfack (University of Arts\, Crafts\, and Design) at the Stockholm School of Entrepreneurship and a guest lecturer in various institutions worldwide. Her interdisciplinary approach is at the intersection of science and design\, developing hands-on tools and visions for organisations and the public realm. Her recently Vinnova-funded speculative design project “Signs of Change”\, in collaboration with Radical Norms\, explores aspects of Urban Transformation and the impact of extreme climate futures through public street signs. \nWebsites: bettinaschwalm.com\, signsofchange.io \n• Jenny Kornmacher\, Innovations Director EIT Culture & Creativity \nSpecialized in creative industries development and international relations\, Jenny is an experienced leader within the cultural sectors of Europe. Based in the south of Sweden working for Region Skåne\, she is also an Interim Innovations Director for the EIT Culture & Creativity. Jenny is ambitious to connect industries and creative sectors in order to support the innovation potential in a larger context\, and through the business oriented Breakthrough Lab concept\, innovation is promoted. She holds a Master of Arts focused in cultural studies/critical theory and analysis from Leuphana University of Lüneburg. \nWebsite: Jenny Kornmacher\, Linkedin \n• Bruno Georges\, Grand Projects and Innovations Director \nBruno is an innovations director for major project development in the private engineering group OteisLab\, and previously the creator and manager for sustainable design office ITF. Bruno is engaged in having a longer time perspective of sustainable projects\, rather than decades. For radical urban transformation\, culturally and financially – there is a need for a change in imagining the future. \nWebsite: https://www.linkedin.com/in/bruno-georges-839466104/?originalSubdomain=fr \nUrban lunch talk webinar series\nThe urban lunch talk is part of a webinar series to discuss and synthesize cross-cutting research and innovation\, with diverse stakeholders across Europe\, and beyond. The webinar is more of a listening experience\, so that you can enjoy your lunch or taking a walk at the same time. The urban lunch talk is live-recorded in Zoom\, and later published for the JPI Urban Europe’s Youtube channel.
URL:https://jpi-urbaneurope.eu/event-calendar/urban-lunch-talk-envisioning-a-sustainable-future-theme-how-do-art-and-design-unlock-the-full-potential-for-urban-transition/
CATEGORIES:DUT,ENUTC
ATTACH;FMTTYPE=image/jpeg:/wp-content/uploads/2022/11/large-lopare.jpg
END:VEVENT
END:VCALENDAR