BEGIN:VCALENDAR
VERSION:2.0
PRODID:-//JPI Urban Europe - ECPv6.15.20//NONSGML v1.0//EN
CALSCALE:GREGORIAN
METHOD:PUBLISH
X-ORIGINAL-URL:https://jpi-urbaneurope.eu
X-WR-CALDESC:Events for JPI Urban Europe
REFRESH-INTERVAL;VALUE=DURATION:PT1H
X-Robots-Tag:noindex
X-PUBLISHED-TTL:PT1H
BEGIN:VTIMEZONE
TZID:Europe/Vienna
BEGIN:DAYLIGHT
TZOFFSETFROM:+0100
TZOFFSETTO:+0200
TZNAME:CEST
DTSTART:20230326T010000
END:DAYLIGHT
BEGIN:STANDARD
TZOFFSETFROM:+0200
TZOFFSETTO:+0100
TZNAME:CET
DTSTART:20231029T010000
END:STANDARD
BEGIN:DAYLIGHT
TZOFFSETFROM:+0100
TZOFFSETTO:+0200
TZNAME:CEST
DTSTART:20240331T010000
END:DAYLIGHT
BEGIN:STANDARD
TZOFFSETFROM:+0200
TZOFFSETTO:+0100
TZNAME:CET
DTSTART:20241027T010000
END:STANDARD
BEGIN:DAYLIGHT
TZOFFSETFROM:+0100
TZOFFSETTO:+0200
TZNAME:CEST
DTSTART:20250330T010000
END:DAYLIGHT
BEGIN:STANDARD
TZOFFSETFROM:+0200
TZOFFSETTO:+0100
TZNAME:CET
DTSTART:20251026T010000
END:STANDARD
END:VTIMEZONE
BEGIN:VEVENT
DTSTART;TZID=Europe/Vienna:20240611T080000
DTEND;TZID=Europe/Vienna:20240612T170000
DTSTAMP:20260422T231055
CREATED:20240214T145827Z
LAST-MODIFIED:20240215T091130Z
UID:24791-1718092800-1718211600@jpi-urbaneurope.eu
SUMMARY:CONflict in TRAnsformations Seminar in Oslo
DESCRIPTION:The CONTRA project welcomes participants to their seminar “The Drama of Conflict – Working with Theatre in Urban Transformation” in Oslo\, Norway\, on 11-12 June 2024.\nThe organisers warmly welcome individuals engaged in addressing urban conflict\, citizen participation\, and arts-based approaches to tackle governance challenges to join us for the concluding seminar of the CONTRA project. This seminar aims to compare experiences and disseminate the results of our research focused on conflicts within urban spaces. \nAbout CONflict in TRAnsformations (CONTRA) project\nThrough a comparative study of urban planning law and practices focused on climate transition in four countries\, the CONTRA project studies how conflict is handled and investigates the connection with political and legal institutions to determine whether conflict is suppressed or actively used for sustainable transformation. The project also tests new ways to handle conflict. CONTRA pioneers a new model of living labs (Drama Labs) that uses theatre-based methods to experiment with productive conflict. To read more about the project please visit its website: conflictintransformations.eu \n \n\nHow to attend\nThe event organisers offer financial support for a limited number of places (travel\, accomodation etc.). \nTo be elegible\, guests should be representatives from European countries not covered by the project consortium\, the project consortium includes Belgium\, the Netherlands\, Norway and Poland.  \nParticipants from other countries are also welcome\, but we will not be able to cover the costs of their arrival and stay in Oslo. \n  \nFor more details please contact: jkrukowska@uw.edu.pl \nTo read more about the project please visit the CONTRA project website: conflictintransformations.eu
URL:https://jpi-urbaneurope.eu/event-calendar/conflict-in-transformations-seminar-in-oslo/
LOCATION:Oslo\, Norway\, Oslo\, Norway
CATEGORIES:ENUTC
ATTACH;FMTTYPE=image/jpeg:/wp-content/uploads/2024/02/CONTRA.jpg
END:VEVENT
END:VCALENDAR