BEGIN:VCALENDAR
VERSION:2.0
PRODID:-//JPI Urban Europe - ECPv6.15.20//NONSGML v1.0//EN
CALSCALE:GREGORIAN
METHOD:PUBLISH
X-ORIGINAL-URL:https://jpi-urbaneurope.eu
X-WR-CALDESC:Events for JPI Urban Europe
REFRESH-INTERVAL;VALUE=DURATION:PT1H
X-Robots-Tag:noindex
X-PUBLISHED-TTL:PT1H
BEGIN:VTIMEZONE
TZID:Europe/Vienna
BEGIN:DAYLIGHT
TZOFFSETFROM:+0100
TZOFFSETTO:+0200
TZNAME:CEST
DTSTART:20230326T010000
END:DAYLIGHT
BEGIN:STANDARD
TZOFFSETFROM:+0200
TZOFFSETTO:+0100
TZNAME:CET
DTSTART:20231029T010000
END:STANDARD
BEGIN:DAYLIGHT
TZOFFSETFROM:+0100
TZOFFSETTO:+0200
TZNAME:CEST
DTSTART:20240331T010000
END:DAYLIGHT
BEGIN:STANDARD
TZOFFSETFROM:+0200
TZOFFSETTO:+0100
TZNAME:CET
DTSTART:20241027T010000
END:STANDARD
BEGIN:DAYLIGHT
TZOFFSETFROM:+0100
TZOFFSETTO:+0200
TZNAME:CEST
DTSTART:20250330T010000
END:DAYLIGHT
BEGIN:STANDARD
TZOFFSETFROM:+0200
TZOFFSETTO:+0100
TZNAME:CET
DTSTART:20251026T010000
END:STANDARD
END:VTIMEZONE
BEGIN:VEVENT
DTSTART;TZID=Europe/Vienna:20241114T000000
DTEND;TZID=Europe/Vienna:20241115T170000
DTSTAMP:20260422T150640
CREATED:20240814T134904Z
LAST-MODIFIED:20241104T122128Z
UID:25208-1731542400-1731690000@jpi-urbaneurope.eu
SUMMARY:ENUTC-BTC Mid-term event\, and Designed living environment conference\, Stockholm\, November 14–15 2024
DESCRIPTION:November 14–15 2024\, agencies and project participants from the ENUTC Building Transformation Call (BTC) will gather in Stockholm\, Sweden\, for inspiration and mutual exchange\, onsite and online. The second day is arranged together with projects from the Designed living environment call. \n \nWelcome to Stockholm\, Sweden\, for the Building Transformation Call (BTC-ENUTC) mid-term event. Project partners and funding agencies will have the opportunity to gather for inspiration and mutual exchange. Projects will present and discuss their works so far\, mingle with each other\, agencies and experts. The participants of the mid-term event are also invited to be a part of the Ten Research Projects on Art in Designed Living Environments – Final Conference with an emphasis on art and design. \nAn international training session for all ERA-NET Urban Transformation Capacity (ENUTC) projects is planned to be arranged – more information will come. \nPurpose and aim \nThe mid-term event will facilitate exchange and community building among the projects and their project partners\, support measures for projects to strengthen communication and impact creation\, and inform about formal requirements on monitoring and reporting. In order to build a multi-stakeholder community for the projects funded within the ENUTC program\, the mid-term event will connect to a wider stakeholder community with partners from municipalities\, business\, local communities and research. \nThe mid-term event is connected to the conference for “Ten Research Projects on Art in Designed Living Environments – Final Conference” Swedish national projects funded in the call Designed living environment and to a digital ENUTC international training session which will include a wider audience in order to build capacity outside Europe. \nFor whom? \nBTC project coordinators and at least one additional project partner\, external experts and ENUTC funding agencies are invited to attend the mid-term event. The participants from the mid-term event are also invited to meet with researchers\, practitioners and stakeholders during an afternoon mingle. Participants are also invited to attend in a conference that is investigating the design of public spaces and the importances of art in the development of a more socially inclusive\, sustainable society.  In connection with these events an ENUTC international training session will be held. \nAgenda (CET) \nNovember 14\, Wenner-Gren Center\, Stockholm  \n12.00–13:00 Consortium meeting (funding agencies only)\n13.00–13.45 Registration and lunch​\n13:45–14:00 Welcome\, tour de table\n14:00–15:00 BTC projects presentations\n15:00–15:20 Coffe break\n15:20–16:00 BTC projects presentations\n16:00–16:45 Panel discussion\n16:45–17:00 Summary\, and opportunity for practical questions\n17:30–19:00 Mingle and appetizers (Wenner-Gren Center) \nNovember 15\, ArkDes\, Stockholm    \n08:30 Registration and fika\n09:00–09:30 Welcome and keynote speach\n09:30–12:00 Project presentations and panel\n12:00–13:00 Mingle lunch\n13:00–14:45 Project reflections and panel\n14:45–15:00 Summary \nLocations \nThe mid-term event will be located at Wenner-Gren Center\, Sveavägen 166\, Stockholm\, Sweden. The Designed living environment conference\, which will be only onsite\, will be arranged at ArkDes\, Exercisplan 4\, Skeppsholmen\, Stockholm\, Sweden. \nRegistration \nRegistration is per invitation.
URL:https://jpi-urbaneurope.eu/event-calendar/enutc-btc-mid-term-event-and-designed-living-environment-conference-stockholm-november-14-15-2024/
CATEGORIES:ENUTC
ATTACH;FMTTYPE=image/jpeg:/wp-content/uploads/2021/01/Call-illustration.jpg
END:VEVENT
END:VCALENDAR