BEGIN:VCALENDAR
VERSION:2.0
PRODID:-//JPI Urban Europe - ECPv6.15.20//NONSGML v1.0//EN
CALSCALE:GREGORIAN
METHOD:PUBLISH
X-ORIGINAL-URL:https://jpi-urbaneurope.eu
X-WR-CALDESC:Events for JPI Urban Europe
REFRESH-INTERVAL;VALUE=DURATION:PT1H
X-Robots-Tag:noindex
X-PUBLISHED-TTL:PT1H
BEGIN:VTIMEZONE
TZID:Europe/Vienna
BEGIN:DAYLIGHT
TZOFFSETFROM:+0100
TZOFFSETTO:+0200
TZNAME:CEST
DTSTART:20240331T010000
END:DAYLIGHT
BEGIN:STANDARD
TZOFFSETFROM:+0200
TZOFFSETTO:+0100
TZNAME:CET
DTSTART:20241027T010000
END:STANDARD
BEGIN:DAYLIGHT
TZOFFSETFROM:+0100
TZOFFSETTO:+0200
TZNAME:CEST
DTSTART:20250330T010000
END:DAYLIGHT
BEGIN:STANDARD
TZOFFSETFROM:+0200
TZOFFSETTO:+0100
TZNAME:CET
DTSTART:20251026T010000
END:STANDARD
BEGIN:DAYLIGHT
TZOFFSETFROM:+0100
TZOFFSETTO:+0200
TZNAME:CEST
DTSTART:20260329T010000
END:DAYLIGHT
BEGIN:STANDARD
TZOFFSETFROM:+0200
TZOFFSETTO:+0100
TZNAME:CET
DTSTART:20261025T010000
END:STANDARD
END:VTIMEZONE
BEGIN:VEVENT
DTSTART;VALUE=DATE:20250917
DTEND;VALUE=DATE:20250919
DTSTAMP:20260421T233123
CREATED:20250312T122358Z
LAST-MODIFIED:20250918T061636Z
UID:26094-1758067200-1758239999@jpi-urbaneurope.eu
SUMMARY:ENUTC Grande finale & BTC Final event\, 17-18 September 2025\, Bucharest\, Romania
DESCRIPTION:Wednesday until Thursday 17–18 September 2025\, agencies and project participants from the ENUTC Building Transformation Call (BTC) will gather in Bucharest\, Romania\, for sharing results and experiences\, onsite and online. There will also be a capacity building meeting with workshops about green transformation with urban living labs\, art\, design\, culture\, municipalities\, and local ecosystems as change agents. \n \nWelcome to Bucharest\, Romania\, for the ENUTC Grande final event for the Building Transformation Call (BTC). Project partners and funding agencies will have the opportunity to gather for sharing experiences\, networking\, and inspiration. Projects will present and discuss their works\, mingle with each other\, agencies\, city representants and experts. \nPurpose and aim \nThe final event on the Wednesday will let projects report on their research and results\, while facilitating exchange and community building among the projects and partners – for those involved to also discuss post-project opportunities. \nFor whom? \nENUTC BTC project coordinators\, and at least one additional project partner\, city representants\, external experts\, funding agencies\, and researchers or stakeholders interested in the topic\, are invited to attend the final event\, and the capacity building meeting with workshops. \nLocations \nVenue: Nod Makerspace\, Splaiul Unirii 160\, Bucharest \nSocial dinner: Linea\, Str. Lipscani nr. 17\, Sector 3\, Bucharest \nProject presentations \nThe final event on the Wednesday will let projects report on their research and results\, while facilitating exchange and community building among the projects and partners – for those involved to also discuss post-project opportunities. \nThe project leader\, or the presenter\, will go through the results and experiences (5-7 minutes) with a PP presentation\, sent-in beforehand (can be presented from your own computer). Each project will present research questions\, methodolgy (very briefly)\, and key findings (tentative results)\, and experiences will be highlighted throughout the expert conversation that will follow the presentation. Instructions for preparations including a PP template is e-mailed to the project coordinators. \nCapacity building meeting \nThe capacity building meeting\, Thursday\, will build upon the conversations from the project presentations\, Wednesday. Thursday’s meeting will revolve around green transformation change agents. There will be keynote speeches\, a panel discussion\, and a workshop about urban living labs\, art\, design\, culture\, municipalities\, and local ecosystems. \nAgenda \nWednesday 17 September 2025\, Bucharest (local times) \n11.30 Guided tour (starting at Nod Makerspace\, Splaiul Unirii 160)\n13.00 Lunch and registrations\n14.00 (13.00 CEST) Welcome – Elena Simion\, Uefiscdi\, Simon Boström\, Formas\n14.15 (13.15 CEST) Project presentations (and coffe break) \nExperts\n– Helka-Liisa Hentilä\, University of Oulu\n– Jeroen Boomgaard\, Gerrit Rietveld Academie\n– Marc Dijk\, Maastricht University\n– Maria Neneciu\, Uefiscdi \n17.00 (16.00 CEST) Conclusions \n17.30 Photo shoot \n18.30 Social dinner\, Linea\, Str. Lipscani nr. 17\, Sector 3\, Bucharest \nThursday 18 September 2025\, Bucharest (local times) \n8.30 Registration and coffee\n9.00 (8.00 CEST) Welcome – Elena Simion\, Uefiscdi\, Kristina Laurell\, Formas\, Emina Pasic\, Swedish Energy Agency\n9.20 (8.20 CEST) Keynote speeches and panel discussion \nKeynote speakers\n– Marie Yeroyanni\, EU Commission\n– John Hultén\, Shift Sweden\n– Mark Dijk\, Maastricht University \nPanelists (including experts above)\n– Emma Sheperdson\, Shift Sweden\n– Patrik Rydén\, Viable cities \n11.00 Coffe break\n11:30 Workshop: Transformation with Urban living labs as change agent – the role of art\, design\, and culture\n13.00 Lunch\n14.00 Workshop: Transformation with Urban living labs as change agent –  the role of municipalities\, and local ecosystems\n15.30–16.00 Reflections\, Johannes Riegler\, FFG \nOnline \nFor the project presentations\, Wednesday\, follow us by clicking on this link to a Zoom meeting. \nFor the capacity building meeting\, Thursday\, follow us by clicking on this link to a live stream at Youtube. \nRegistration \nRegistrations until 1st of September 2025. \nDue to limited registration capacity\, we kindly reserve the right to determine onsite participation. \nContact \nSimon Boström\, Formas\, simon.bostrom@formas.se
URL:https://jpi-urbaneurope.eu/event-calendar/enutc-grande-finale-btc-final-event-17-18-september-2025-bucharest-romania/
CATEGORIES:ENUTC
ATTACH;FMTTYPE=image/jpeg:/wp-content/uploads/2022/03/Call-illustration-1024x640-002.jpg
END:VEVENT
END:VCALENDAR