BEGIN:VCALENDAR
VERSION:2.0
PRODID:-//JPI Urban Europe - ECPv6.15.20//NONSGML v1.0//EN
CALSCALE:GREGORIAN
METHOD:PUBLISH
X-ORIGINAL-URL:https://jpi-urbaneurope.eu
X-WR-CALDESC:Events for JPI Urban Europe
REFRESH-INTERVAL;VALUE=DURATION:PT1H
X-Robots-Tag:noindex
X-PUBLISHED-TTL:PT1H
BEGIN:VTIMEZONE
TZID:Europe/Vienna
BEGIN:DAYLIGHT
TZOFFSETFROM:+0100
TZOFFSETTO:+0200
TZNAME:CEST
DTSTART:20240331T010000
END:DAYLIGHT
BEGIN:STANDARD
TZOFFSETFROM:+0200
TZOFFSETTO:+0100
TZNAME:CET
DTSTART:20241027T010000
END:STANDARD
BEGIN:DAYLIGHT
TZOFFSETFROM:+0100
TZOFFSETTO:+0200
TZNAME:CEST
DTSTART:20250330T010000
END:DAYLIGHT
BEGIN:STANDARD
TZOFFSETFROM:+0200
TZOFFSETTO:+0100
TZNAME:CET
DTSTART:20251026T010000
END:STANDARD
BEGIN:DAYLIGHT
TZOFFSETFROM:+0100
TZOFFSETTO:+0200
TZNAME:CEST
DTSTART:20260329T010000
END:DAYLIGHT
BEGIN:STANDARD
TZOFFSETFROM:+0200
TZOFFSETTO:+0100
TZNAME:CET
DTSTART:20261025T010000
END:STANDARD
END:VTIMEZONE
BEGIN:VEVENT
DTSTART;TZID=Europe/Vienna:20251027T120000
DTEND;TZID=Europe/Vienna:20251027T130000
DTSTAMP:20260421T215602
CREATED:20251010T062130Z
LAST-MODIFIED:20251027T061931Z
UID:26326-1761566400-1761570000@jpi-urbaneurope.eu
SUMMARY:Urban Lunch Talk: The aftermath – What came out of the ENUTC calls?
DESCRIPTION:Last month\, September\, agencies and project participants from the ENUTC Building Transformation Call (BTC) gathered in Bucharest\, Romania\, for sharing results and experiences\, onsite and online. There was also a capacity building meeting with workshops about green transformation with urban living labs\, art\, design\, culture\, municipalities\, and local ecosystems as change agents. Now\, agencies will discuss what came out of the Bucharest meeting\, and from the ENUTC calls\, in an Urban lunch talk. \nIt is possible to register for the Urban Lunch Talk for the ones interested in being invited to further talks and networking activities. A Zoom meeting link will appear here before the event starts\, available for anyone to join the talk. You may download the event to your calendar (ics). The event will be recorded and published for the JPI Urban Europe’s Youtube channel in order to be seen afterwards. \n-> Join the Urban Lunch Talk (Zoom) \nWhat came out of ENUTC?\nThe ERA-NET Cofund Urban Transformation Capacities (ENUTC) programme has over the years\, in 2 calls\, invited researchers\, urban government authorities\, cities and municipalities\, businesses\, civil society and other stakeholders to build transnational consortia. The goal has been to create innovation and research projects that enable and support capacity building for urban transformations\, also in art and design. \nNow that the ENUTC programme is coming to an end\, and when the echoes from the last event\, the Grande Finale\, in Bucharest are sounding out – what could be said about the programme in terms of output? What came out of the 2 ENUTC calls? What is the aftermath? For the upcoming\, and last ENUTC Urban Lunch Talk\, agencies will discuss the programme’s purpose and results\, and what stood out from 21 exciting projects in 2 quite different calls. \nPanel of agencies\nKristina Laurell\, Formas\nElena Simion\, Uefiscdi\nEmina Pasic\, Swedish Energy Agency\nAsta Aleksandravičienė\, Research Council of Lithuania \nModeration: Simon Boström\, Formas \nUrban lunch talk webinar series\nThe urban lunch talk is part of a webinar series to discuss and synthesize cross-cutting research and innovation\, with diverse stakeholders across Europe\, and beyond. The webinar is more of a listening experience\, so that you can enjoy your lunch or taking a walk at the same time. The urban lunch talk is live-recorded in Zoom\, and later published for the JPI Urban Europe’s Youtube channel.
URL:https://jpi-urbaneurope.eu/event-calendar/urban-lunch-talk/
CATEGORIES:DUT,ENUTC
ATTACH;FMTTYPE=image/jpeg:/wp-content/uploads/2022/03/Call-illustration-1024x640-002.jpg
END:VEVENT
END:VCALENDAR