BEGIN:VCALENDAR
VERSION:2.0
PRODID:-//JPI Urban Europe - ECPv6.15.20//NONSGML v1.0//EN
CALSCALE:GREGORIAN
METHOD:PUBLISH
X-WR-CALNAME:JPI Urban Europe
X-ORIGINAL-URL:https://jpi-urbaneurope.eu
X-WR-CALDESC:Events for JPI Urban Europe
REFRESH-INTERVAL;VALUE=DURATION:PT1H
X-Robots-Tag:noindex
X-PUBLISHED-TTL:PT1H
BEGIN:VTIMEZONE
TZID:UTC
BEGIN:STANDARD
TZOFFSETFROM:+0000
TZOFFSETTO:+0000
TZNAME:UTC
DTSTART:20140101T000000
END:STANDARD
END:VTIMEZONE
BEGIN:VEVENT
DTSTART;VALUE=DATE:20150702
DTEND;VALUE=DATE:20150704
DTSTAMP:20260421T135716
CREATED:20160915T051035Z
LAST-MODIFIED:20160915T051035Z
UID:5590-1435795200-1435967999@jpi-urbaneurope.eu
SUMMARY:Strategic Advisory Board
DESCRIPTION:This is a closed meeting.
URL:https://jpi-urbaneurope.eu/event-calendar/strategic-advisory-board/
END:VEVENT
BEGIN:VEVENT
DTSTART;VALUE=DATE:20150713
DTEND;VALUE=DATE:20150717
DTSTAMP:20260421T135716
CREATED:20160915T051036Z
LAST-MODIFIED:20160915T051036Z
UID:5592-1436745600-1437091199@jpi-urbaneurope.eu
SUMMARY:AESOP Annual Congress: Definite space – fuzzy responsibility
DESCRIPTION:While many of the initiatives and powers moved outside public control\, the sense of responsibility for spatial change and sustainable development of cities and regions hardly overstepped the domain of city halls and ministries\, and planners as their experts.\nThe Association of European Schools of Planning will address the gap between sprawled powers / potency and blurred sense of responsibility in the debates at its Annual Congress.\nFor more information click here\nFor registration click here
URL:https://jpi-urbaneurope.eu/event-calendar/aesop-annual-congress-definite-space-fuzzy-responsibility/
LOCATION:Czech Technical University\, Faculty of Architecture @ Fakulta informačních technologií ČVUT v Praze\, Thákurova 9\, 160 00 Praha 6\, Czech Republic
END:VEVENT
END:VCALENDAR