BEGIN:VCALENDAR
VERSION:2.0
PRODID:-//JPI Urban Europe - ECPv6.15.20//NONSGML v1.0//EN
CALSCALE:GREGORIAN
METHOD:PUBLISH
X-WR-CALNAME:JPI Urban Europe
X-ORIGINAL-URL:https://jpi-urbaneurope.eu
X-WR-CALDESC:Events for JPI Urban Europe
REFRESH-INTERVAL;VALUE=DURATION:PT1H
X-Robots-Tag:noindex
X-PUBLISHED-TTL:PT1H
BEGIN:VTIMEZONE
TZID:UTC
BEGIN:STANDARD
TZOFFSETFROM:+0000
TZOFFSETTO:+0000
TZNAME:UTC
DTSTART:20150101T000000
END:STANDARD
END:VTIMEZONE
BEGIN:VTIMEZONE
TZID:Europe/Paris
BEGIN:DAYLIGHT
TZOFFSETFROM:+0100
TZOFFSETTO:+0200
TZNAME:CEST
DTSTART:20150329T010000
END:DAYLIGHT
BEGIN:STANDARD
TZOFFSETFROM:+0200
TZOFFSETTO:+0100
TZNAME:CET
DTSTART:20151025T010000
END:STANDARD
BEGIN:DAYLIGHT
TZOFFSETFROM:+0100
TZOFFSETTO:+0200
TZNAME:CEST
DTSTART:20160327T010000
END:DAYLIGHT
BEGIN:STANDARD
TZOFFSETFROM:+0200
TZOFFSETTO:+0100
TZNAME:CET
DTSTART:20161030T010000
END:STANDARD
BEGIN:DAYLIGHT
TZOFFSETFROM:+0100
TZOFFSETTO:+0200
TZNAME:CEST
DTSTART:20170326T010000
END:DAYLIGHT
BEGIN:STANDARD
TZOFFSETFROM:+0200
TZOFFSETTO:+0100
TZNAME:CET
DTSTART:20171029T010000
END:STANDARD
END:VTIMEZONE
BEGIN:VEVENT
DTSTART;VALUE=DATE:20161005
DTEND;VALUE=DATE:20161008
DTSTAMP:20260422T202647
CREATED:20160915T051053Z
LAST-MODIFIED:20160916T134435Z
UID:5653-1475625600-1475884799@jpi-urbaneurope.eu
SUMMARY:1st World Urban Parks Europe Region Congress
DESCRIPTION:The congress is expected to attract 250 participants and is themed: “Heritage and culture\, the contribution of green and natural spaces in the city (economy\, social\, landscape)”. The beautiful Episcopal city of Albi\, is listed as a UNESCO World Heritage site. It is the second largest conurbation in the Midi-Pyrenees Region and is a one hour drive from Toulouse and its international airport.\nMore information
URL:https://jpi-urbaneurope.eu/event-calendar/1st-world-urban-parks-europe-region-congress-2/
LOCATION:81000 Albi\, France
END:VEVENT
BEGIN:VEVENT
DTSTART;TZID=UTC:20161005T080000
DTEND;TZID=UTC:20161007T170000
DTSTAMP:20260422T202647
CREATED:20160824T043921Z
LAST-MODIFIED:20160916T115233Z
UID:547-1475654400-1475859600@jpi-urbaneurope.eu
SUMMARY:1st World Urban Parks Europe Region Congress
DESCRIPTION:The congress is expected to attract 250 participants and is themed: “Heritage and culture\, the contribution of green and natural spaces in the city (economy\, social\, landscape)”. The beautiful Episcopal city of Albi\, is listed as a UNESCO World Heritage site. It is the second largest conurbation in the Midi-Pyrenees Region and is a one hour drive from Toulouse and its international airport.
URL:https://jpi-urbaneurope.eu/event-calendar/1st-world-urban-parks-europe-region-congress/
END:VEVENT
BEGIN:VEVENT
DTSTART;TZID=Europe/Paris:20161005T170000
DTEND;TZID=Europe/Paris:20161005T190000
DTSTAMP:20260422T202647
CREATED:20160928T065507Z
LAST-MODIFIED:20160928T103623Z
UID:5986-1475686800-1475694000@jpi-urbaneurope.eu
SUMMARY:Webinar: Sustainable Urban Global Initiative (SUGI): Food-Water-Energy Nexus call
DESCRIPTION:JPI Urban Europe and Belmont Forum invites you to a webinar presenting the upcoming call Sustainable Urban Global Initiative/Food-Water-Energy Nexus. \nWednesday\, October 5\, 2016\n11:00 AM Eastern Daylight Time (New York)\n16:00 BST (London)\n17:00 CEST (Amsterdam) \nPlease note the time zones. \n> Go to webinar \nMeeting number (access code): 747 515 940\nMeeting password: YtSeEn@3\n \n> Invitation (PDF) \nThe Sustainable Urban Global Initiative (SUGI)/Food-Water-Energy Nexus is a call jointly established by the Belmont Forum and the Joint Programming Initiative Urban Europe. The cooperation was established in order to bring together the fragmented research and expertise across the globe to find innovative new solutions to the Food-Water-Energy Nexus challenge. \nThe call aims to develop more resilient\, applied urban solutions that bring inter- and trans-disciplinary research and innovation together from across the globe\, to benefit a much wider range of stakeholders. The rapid urbanization of the world’s population underscores the importance of this focus. JPI Urban Europe and Belmont Forum have partnered to ensure a maximum audience across physical\, natural\, social sciences and arts and humanities as well as policy and decision makers and stakeholders. \nWebinar\nThe aim of the webinar is to give information on the call to potential applicants; companies\, cities\, municipalities\, regions\, consumers\,\ncitizens’ representatives\, NGOs and research organisations. A further purpose is to facilitate match-making and partner search between international partners. \nAttending the webinar is free of charge and details on how to access the webinar is in the menu on the right. The call will open in December 2016 (TBC). Stay tuned to both the Belmont Forum and JPI Urban Europe websites for further information on the call. \nAgenda\n– Presentation of the JPI Urban Europe and the Belmont Forum\n– Presentation of the Joint Initiative SUGI/Food-Water-Energy Nexus\n– Q&A \nThe Collaborative Research Action (CRA)/ERA-NET Cofund is supported by the European Commission and funded under the Horizon 2020\, Work Programme 2016-2017.
URL:https://jpi-urbaneurope.eu/event-calendar/webinar-applicants-sustainable-urban-global-initiative-sugi-food-water-energy-nexus-call/
END:VEVENT
BEGIN:VEVENT
DTSTART;VALUE=DATE:20161010
DTEND;VALUE=DATE:20161014
DTSTAMP:20260422T202647
CREATED:20160920T084310Z
LAST-MODIFIED:20161010T085526Z
UID:6061-1476057600-1476403199@jpi-urbaneurope.eu
SUMMARY:SURF Academy 2016/2017
DESCRIPTION:In cooperation with the VerDuS programme SURF (Smart Urban Regions of the Future)\, the Research Schools TRAIL and NETHUR organize a 4-ECTS education program. This programme is tailor made for recently started SURF-researchers (PhD students\, Postdocs\, researchers) in both the 5 national projects and the 13 international projects (ENSCC-call JPI Urban Europe).\n Join the programme to improve your knowledge\, sharpen your skills and become a wellinformed member of the SURF community. Attending the SURF Academy also enhances the cohesion and possible synergetic effects between the SURF projects. All recently started SURF researchers are expected to participate in the Academy. The SURF Consortia Seminar on Friday 10 March is meant for the entire SURF community\, i.e all members of the consortia of the 5 national and the 13 international SURF-projects. \nSURF Academy: mixed programme\nThe programme provides a mix of fundamental knowledge about the SURF domain as well as skills for performing multidisciplinary research with SURF-practitioners. It is characterized by alternating lectures and assignments\, many interaction moments between students and lecturers\, feedback on individual research projects\, and workshops. \nFirst week (10-13 October 2016)\nOn Monday we start with an introduction and a workshop on valorization. You will learn how to do a short pitch about (the societal value of) your project. On Tuesday transport systems and transport innovations are the central issue. On Wednesday we focus on cities and urban systems\, including innovations. We will also visit AMS (the Amsterdam Institute for Advanced Metropolitan Solutions). Thursday morning is about transitions in the urban domain; in the afternoon governance is the central theme. \nSecond week (6 -9 March 2017)\nOn Monday we reflect on the first week and responsible innovation (ethical and societal aspects of technology) will be discussed. On Tuesday ‘society’ is central again with a part on Cost Benefit Analysis and a part on the role of citizens and self-organisation. Wednesday is all about cooperation with non-academic partners and knowledge co-creation. Thursday is about knowledge valorization and dissemination. \nPDF with more information
URL:https://jpi-urbaneurope.eu/event-calendar/surf-academy-20162017/
LOCATION:Utrecht\, Netherlands
END:VEVENT
BEGIN:VEVENT
DTSTART;VALUE=DATE:20161025
DTEND;VALUE=DATE:20161027
DTSTAMP:20260422T202647
CREATED:20160915T092844Z
LAST-MODIFIED:20161025T103930Z
UID:5725-1477353600-1477526399@jpi-urbaneurope.eu
SUMMARY:SEiSMiC Final Conference: The Launch of JPI UE Stakeholder Involvement Platform
DESCRIPTION:SEiSMiC and JPI Urban Europe welcomes you to exchange\, discussions and celebration as the SEiSMiC networks are handed over to JPI Urban Europe and the platform for stakeholder involvement (SIP) is started. \nThe FP7 funded SEiSMiC project is reaching its formal completion by the end of October. SEiSMIC has brought together a large number of urban stakeholders in ten different countries by conducting continuous exchange on European level.\nAlthough the project is about to end\, JPI Urban Europe will continue the dialogue with the SEiSMiC stakeholders\, build on the experiences of the national networks and establish a platform for stakeholder involvement (SIP) to co-create the future strategic orientation of the initiative. SIP will be a very important tool to safeguard the ambition and principles of the JPI UE: \n> To enhance the cities capacities for transition\n> Tackling the complexity of urban development and sustainability\n> Teaming up and interlinking with cities and urban stakeholders\n> Raising the impact and supporting the exploitation of technological and social innovation. \nThis conference will present and interactively discuss the main achievements along the SEiSMiC journey before the networks are handed-over to JPI Urban Europe. Additionally\, the SIP will be started by strategic dialogues on pressing topics for urban development\, research and innovation as well as the framework conditions for the SIP in interactive settings. You will receive the detailed agenda in due course.\nSEiSMiC and JPI Urban Europe would like to welcome you in Brussels for two days of discussions\, exchange and celebration. \nAGENDA\nREGISTRATION
URL:https://jpi-urbaneurope.eu/event-calendar/seismic-final-conference-launch-jpi-urban-europes-stakeholder-involvement-platform/
LOCATION:Factory 40\, Oude Vijversstraat 40\, Brussels\, Belgium
ATTACH;FMTTYPE=image/jpeg:/wp-content/uploads/2016/09/Achieving-UERAs-ambitions.jpg
END:VEVENT
END:VCALENDAR