BEGIN:VCALENDAR
VERSION:2.0
PRODID:-//JPI Urban Europe - ECPv6.15.20//NONSGML v1.0//EN
CALSCALE:GREGORIAN
METHOD:PUBLISH
X-ORIGINAL-URL:https://jpi-urbaneurope.eu
X-WR-CALDESC:Events for JPI Urban Europe
REFRESH-INTERVAL;VALUE=DURATION:PT1H
X-Robots-Tag:noindex
X-PUBLISHED-TTL:PT1H
BEGIN:VTIMEZONE
TZID:UTC
BEGIN:STANDARD
TZOFFSETFROM:+0000
TZOFFSETTO:+0000
TZNAME:UTC
DTSTART:20150101T000000
END:STANDARD
END:VTIMEZONE
BEGIN:VEVENT
DTSTART;VALUE=DATE:20161115
DTEND;VALUE=DATE:20161118
DTSTAMP:20260422T185926
CREATED:20160915T051053Z
LAST-MODIFIED:20161103T092945Z
UID:5655-1479168000-1479427199@jpi-urbaneurope.eu
SUMMARY:Smart City Expo World Congress 2016
DESCRIPTION:Smart City Expo World Congress (SCEWC) is the international summit of discussion about the link between urban reality and technological revolution. Since its first edition in 2011\, it has succeeded to become a referential global event to support the development of our cities. This professional\, institutional and social meeting point is a leading platform of ideas\, networking\, experiences and international business deals that gathers together the highest level of stakeholders\, in the context of urban development.\nMore information
URL:https://jpi-urbaneurope.eu/event-calendar/smart-city-expo-world-congress-2016/
LOCATION:Gran Via Exhibition Centre @ Avinguda de Joan Carles I\, 64\, 08850 Gavà\, Barcelona\, Spain
ATTACH;FMTTYPE=image/jpeg:/wp-content/uploads/2016/09/Smart-City-Expo-World-Congress-2016.jpg
END:VEVENT
BEGIN:VEVENT
DTSTART;VALUE=DATE:20161116
DTEND;VALUE=DATE:20161119
DTSTAMP:20260422T185926
CREATED:20160915T051054Z
LAST-MODIFIED:20160915T051054Z
UID:5657-1479254400-1479513599@jpi-urbaneurope.eu
SUMMARY:Sustainable Housing 2016
DESCRIPTION:SUSTAINABLE HOUSING 2016 – International Conference on Sustainable Housing Planning\, Management and Usability is an initiative of Green Lines Institute for Sustainable development that aims to go further on the discussion of the sustainable improvement of housing design and construction\, including the user point of view.\nCurrently\, the issue of housing is shown as a major challenge within the latest Sustainable Development concept brought by the Post-2015 Development Agenda\, which is based on 17 objectives called as Sustainable Development Goals (SDG).\nAmong the many goals that were settled\, objectives 1 (No poverty)\, 3 (Good health)\, 6 (Clean water and sanitation)\, 7 (Renewable energy)\, 9 (Innovation and infrastructure)\, 10 (Reduced inequalities)\, 11 (Sustainable cities and communities)\, 12 (Responsible consumption)\, 13 (Climate action) and 17 (Partnerships for the goals) are of particular relevance to rethink how to build our homes\, as well as establishing more participatory processes for communities. These objectives include economic\, social\, cultural and environmental issues that cross the participation of various actors as promoters\, technicians and users.\nMore information
URL:https://jpi-urbaneurope.eu/event-calendar/sustainable-housing-2016/
LOCATION:The University Lusíada @ R. Dr. Lopo de Carvalho\, 4350 Porto\, Portugal
END:VEVENT
BEGIN:VEVENT
DTSTART;TZID=UTC:20161116T143000
DTEND;TZID=UTC:20161116T190000
DTSTAMP:20260422T185926
CREATED:20160915T093754Z
LAST-MODIFIED:20160915T103542Z
UID:5730-1479306600-1479322800@jpi-urbaneurope.eu
SUMMARY:Accelerating urban transition: Tapping the full potential of Smart City and Community pilots - A Smart City EXPO side event
DESCRIPTION:The event is co-organised by JPI Urban Europe\, the ERA-NET Smart Cities and Communities and the Austrian Ministry for Transport\, Innovation and Technology. \nAim of the Workshop\nThis workshop aims at bringing together people working in public administration\, researchers\, business\, NGOs and civil society to jointly discuss measures to fully exploit the potential of Smart City and Communities pilot and demonstration projects. The aim is to identify bottlenecks at hand\, ways forward and concepts to move from demonstration and pilots to larger scale implementation. Experiences from cities and JPI Urban Europe research projects will be shared and used to reflect on good practice examples and critical conditions. \nWorkshop Outline\nAs urban systems by definition are complex and highly depending on local characteristics\, upscaling and replication of Smart City and Communities demonstration projects and living labs is a tricky but central issue. On the one hand\, the settings and circumstances in piloting projects are speci-fically arranged for the course of demonstration which might not necessarily fully reflect the urban realities. On the other hand\, plans and activities might be dedicated to the circumstances in one particular city\, district or neighbourhood making the direct application in another setting difficult.\nTwo aspects that all such Smart City implementation efforts have in common is that they have to rely on INTEGRATED and JOINT efforts. Integrated\, cross-sectoral efforts are needed to benefit from Smart City concepts. Various borders\, originating from the so-called technical and administrative “silos”\, have to be overcome to create a common understanding and platform for Smart City implementation. In addition\, JOINT efforts are required to tap upon the available local knowledge from all kind of different stakeholders affected by the projects and to co-create a common urban future. JOINT efforts also increase the democratic legitimacy of Smart City and Community endeavours. In this light – with a huge number of Smart City pilot projects ongoing across Europe – one of the most pressing questions is how to come to larger scale implementation of Smart City strategies and exploitation of the pilot project results under these conditions. \nDRAFT AGENDA\nREGISTRATION \n 
URL:https://jpi-urbaneurope.eu/event-calendar/accelerating-urban-transition-tapping-full-potential-smart-city-community-pilots-smart-city-expo-side-event/
LOCATION:Fira de Barcelona\, Avinguda Joan Carles I\, 58\, Barcelona\, Spain
END:VEVENT
BEGIN:VEVENT
DTSTART;VALUE=DATE:20161123
DTEND;VALUE=DATE:20161124
DTSTAMP:20260422T185926
CREATED:20160915T102749Z
LAST-MODIFIED:20160915T102749Z
UID:5751-1479859200-1479945599@jpi-urbaneurope.eu
SUMMARY:‘Inclusive Smart Cities: A European Manifesto on Citizen Engagement’ Conference
DESCRIPTION:The EIP-SCC Action Clusters on Citizen Focus and Integrated Planning\, Policy & Regulation\, ERRIN (European Regions\, Research and Innovation Network) and ICLEI (Local Governments for Sustainability) invite you to participate in the ‘Inclusive Smart Cities: A European Manifesto on Citizen Engagement’ Conference.\nThe Conference will gather the main EU level networks of regional and local authorities\, civil society organisations\, knowledgeable scholars and practitioners as well as industry representatives to cooperate and commit to active involvement of citizens.\nPractical tools for citizen’s involvement\, policy and regulation will be presented and the Manifesto on Inclusive Smart Cities: A European Manifesto on Citizen Engagement\, discussed by the Citizen Focus Action Cluster during the EIP-SCC 2016 General Assembly and currently open for contributions until September 15th 2016\, will be launched and officially signed.\nMore Information
URL:https://jpi-urbaneurope.eu/event-calendar/inclusive-smart-cities-european-manifesto-citizen-engagement-conference/
LOCATION:Dutch Permanent Representation\, Avenue de Cortenbergh 4-10\, Brussels\, Belgium
END:VEVENT
BEGIN:VEVENT
DTSTART;VALUE=DATE:20161124
DTEND;VALUE=DATE:20161125
DTSTAMP:20260422T185926
CREATED:20161019T084013Z
LAST-MODIFIED:20161019T084013Z
UID:6100-1479945600-1480031999@jpi-urbaneurope.eu
SUMMARY:i3B Annual Symposium 2016 - Smart Cities and an Active Lifestyle
DESCRIPTION:i3B is proud to announce its 5th annual symposium\, the 24th of November 2016. This year’s theme is Smart Cities and an Active Lifestyle. With a fantastic program with renowned speakers like Ger Baron (CTO\, city of Amsterdam)\, a panel discussion\, product demo’s (like Bicycle detection and guidance system LumiGuide\, the Citizen’ moves dashboard and Noldus IT demo)\, research posters and last but not least lots of opportunities to network.\nMore information\, registration and programme
URL:https://jpi-urbaneurope.eu/event-calendar/i3b-annual-symposium-2016-smart-cities-active-lifestyle/
LOCATION:Akoesticum Ede\, Ede\, Netherlands
END:VEVENT
END:VCALENDAR