BEGIN:VCALENDAR
VERSION:2.0
PRODID:-//JPI Urban Europe - ECPv6.15.20//NONSGML v1.0//EN
CALSCALE:GREGORIAN
METHOD:PUBLISH
X-ORIGINAL-URL:https://jpi-urbaneurope.eu
X-WR-CALDESC:Events for JPI Urban Europe
REFRESH-INTERVAL;VALUE=DURATION:PT1H
X-Robots-Tag:noindex
X-PUBLISHED-TTL:PT1H
BEGIN:VTIMEZONE
TZID:UTC
BEGIN:STANDARD
TZOFFSETFROM:+0000
TZOFFSETTO:+0000
TZNAME:UTC
DTSTART:20160101T000000
END:STANDARD
END:VTIMEZONE
BEGIN:VTIMEZONE
TZID:Europe/Paris
BEGIN:DAYLIGHT
TZOFFSETFROM:+0100
TZOFFSETTO:+0200
TZNAME:CEST
DTSTART:20160327T010000
END:DAYLIGHT
BEGIN:STANDARD
TZOFFSETFROM:+0200
TZOFFSETTO:+0100
TZNAME:CET
DTSTART:20161030T010000
END:STANDARD
BEGIN:DAYLIGHT
TZOFFSETFROM:+0100
TZOFFSETTO:+0200
TZNAME:CEST
DTSTART:20170326T010000
END:DAYLIGHT
BEGIN:STANDARD
TZOFFSETFROM:+0200
TZOFFSETTO:+0100
TZNAME:CET
DTSTART:20171029T010000
END:STANDARD
BEGIN:DAYLIGHT
TZOFFSETFROM:+0100
TZOFFSETTO:+0200
TZNAME:CEST
DTSTART:20180325T010000
END:DAYLIGHT
BEGIN:STANDARD
TZOFFSETFROM:+0200
TZOFFSETTO:+0100
TZNAME:CET
DTSTART:20181028T010000
END:STANDARD
END:VTIMEZONE
BEGIN:VEVENT
DTSTART;TZID=UTC:20170109T140000
DTEND;TZID=UTC:20170109T170000
DTSTAMP:20260422T222948
CREATED:20161129T172841Z
LAST-MODIFIED:20161129T172946Z
UID:6316-1483970400-1483981200@jpi-urbaneurope.eu
SUMMARY:Brussels: Regional Info session on SUGI/FWE Nexus
DESCRIPTION:More info on www.innoviris.be
URL:https://jpi-urbaneurope.eu/event-calendar/brussels-regional-info-session-sugifwe-nexus/
LOCATION:Innoviris\, Chaussée de Charleroi 110\, Brussels\, Belgium
END:VEVENT
BEGIN:VEVENT
DTSTART;TZID=UTC:20170110T100000
DTEND;TZID=UTC:20170110T113000
DTSTAMP:20260422T222948
CREATED:20170104T141920Z
LAST-MODIFIED:20170104T142051Z
UID:6511-1484042400-1484047800@jpi-urbaneurope.eu
SUMMARY:Webinar on SUGI-FWE Nexus for Austrian applicants
DESCRIPTION:Webinar about the Sustainable Urbanisation Global Initiative/Food-Water-Energy Nexus (SUGI-FWE Nexus) call. Organized by the Austrian Research Promotion Agency (FFG). \nIn German. \nRead more (in German) \n  \n  \n 
URL:https://jpi-urbaneurope.eu/event-calendar/webinar-sugi-fwe-nexus-austrian-applicants/
END:VEVENT
BEGIN:VEVENT
DTSTART;TZID=UTC:20170112T110000
DTEND;TZID=UTC:20170112T170000
DTSTAMP:20260422T222948
CREATED:20161129T141942Z
LAST-MODIFIED:20170111T150225Z
UID:6293-1484218800-1484240400@jpi-urbaneurope.eu
SUMMARY:Matchmaking event SUGI/FWE Nexus call in Leipzig
DESCRIPTION:A matchmaking event for the Sustainable Urbanisation Global Initiative/Food-Water-Energy Nexus call will be organized on January 12th (11:00 – 17:00) in Leipzig at the Helmholtz Centre for Environmental Research – UFZ (Department of Urban and Environmental Sociology). \nThe Sustainable Urbanisation Global Initiative (SUGI)/Food-Water-Energy Nexus is a call jointly established by the Belmont Forum and the Joint Programming Initiative Urban Europe. The cooperation was established in order to bring together the fragmented research and expertise across the globe to find innovative new solutions to the Food-Water-Energy Nexus challenge.\nRead more about the Sustainable Urbanisation Global Initiative/Food-Water-Energy Nexus call \nContact local organiser: Kerstin Krellenberg \nFurther details \n\nAGENDA\nTRAVEL INFORMATION\nHOTEL INFORMATION\n\nREGISTRATION CLOSED
URL:https://jpi-urbaneurope.eu/event-calendar/matchmaking-event-sugifwe-nexus-call/
LOCATION:Helmholtz Centre for Environmental Research – UFZ\, Leipzig\, Germany
END:VEVENT
BEGIN:VEVENT
DTSTART;TZID=UTC:20170113T090000
DTEND;TZID=UTC:20170113T160000
DTSTAMP:20260422T222948
CREATED:20161215T065019Z
LAST-MODIFIED:20161215T132153Z
UID:6465-1484298000-1484323200@jpi-urbaneurope.eu
SUMMARY:UERA meeting in Leipzig
DESCRIPTION:The next UERA meeting will be organized on January 13th (9:00 – 16:00) in Leipzig at the Helmholtz Centre for Environmental Research – UFZ (Department of Urban and Environmental Sociology). \nContact local organiser: Kerstin Krellenberg\nAGENDA\nTRAVEL INFORMATION\nHOTEL INFORMATION \nREGISTRATION FORM\n \n  \n 
URL:https://jpi-urbaneurope.eu/event-calendar/uera-meeting-leipzig-january-13-2017/
LOCATION:Helmholtz Centre for Environmental Research\, Permoserstrasse 17\, Leipzig\, Germany
END:VEVENT
BEGIN:VEVENT
DTSTART;VALUE=DATE:20170118
DTEND;VALUE=DATE:20170119
DTSTAMP:20260422T222948
CREATED:20170109T135136Z
LAST-MODIFIED:20170109T135846Z
UID:6552-1484697600-1484783999@jpi-urbaneurope.eu
SUMMARY:Submission deadline: Transdisciplinary workshops on the impacts of urbanization on the food-energy-water nexus
DESCRIPTION:The Belmont Forum\, START\, Future Earth\, and regional partners seek applications to participate in a skill-building opportunity on conducting transdisciplinary (TD) research. The workshops will focus on advancing principles of co-design and co-production in the natural\, social\, and engineering sciences that address complex sustainability challenges associated with the Belmont Challenge. \nThese workshops seek to advance skill development in TD research\, as well as increasing aptitude for developing proposals with strong TD elements\, which is a cornerstone of all the Belmont Forum’s multi-year Collaborative Research Action (CRA)\, including the recently launched call on urbanization and the food-energy-water nexus. \nRead more about the call \nLearning activities within each workshop will be organized around a regionally relevant case study on the food-energy-water nexus. The workshops will be three-day events with approximately 30 participants per workshop. We welcome applicants from researcher\, policy\, private sector\, and practitioner communities. The participants will be apportioned as approximately 2/3 from the research community and 1/3 from practitioner\, private sector\, and policy communities. \nApplicants must be based in the U.S. \nRead more in the invitation (PDF) \n  \nWORKSHOP LOCATIONS\n1. Tempe\, Arizona Dates: February 22-24\, 2017\nTheme: Extreme heat and its impact on the Food-Energy-Water nexus\nVenue: Global Institute of Sustainability at Arizona State University\nPartners: NSF\, START\, Belmont Forum\, Future Earth\, Global Institute of Sustainability at Arizona State University\, and Urbanization and Global Environmental Change (UGEC) \n2. Boulder\, Colorado Dates: March 1-3\, 2017\nTheme: Food-Energy-Water on the South Platte River\nVenue: University of Colorado\nPartners: NSF\, START\, Future Earth\, Belmont Forum\, and Sustainability Innovation Lab at Colorado at the University of Colorado \n3. Baltimore\, Maryland Dates: Late Spring 2017 (A separate call will be released for this workshop)\nTheme: TBA\nVenue: TBA\nPartners: NSF\, START\, Belmont Forum\, Future Earth\, and others
URL:https://jpi-urbaneurope.eu/event-calendar/submission-deadline-transdisciplinary-workshops-impacts-urbanization-food-energy-water-nexus/
END:VEVENT
BEGIN:VEVENT
DTSTART;TZID=Europe/Paris:20170119T150000
DTEND;TZID=Europe/Paris:20170119T170000
DTSTAMP:20260422T222948
CREATED:20170109T141641Z
LAST-MODIFIED:20170119T062856Z
UID:6569-1484838000-1484845200@jpi-urbaneurope.eu
SUMMARY:SUGI FWE Nexus Webinar
DESCRIPTION:Thursday\, January 19\, 2017\n15:00 | Central European Time (Amsterdam\, GMT+01:00)\n9:00 am | Eastern Standard Time (New York\, GMT-05:00) | 2 hrs \n> Join meeting\n \nMeeting number (access code): 741 982 546\nMeeting password: Hudtcp*7 \n> Invitation with login details (PDF)\n> Instructions how to use Webex software \nIn order to share information about the call and facilitate partner search and matchmaking these webinars will follow up former webinars and the UERA matchmaking event. \nThe Sustainable Urban Global Initiative (SUGI)/Food-Water-Energy Nexus is a call jointly established by the Belmont Forum and the Joint Programming Initiative Urban Europe. The cooperation was established in order to bring together the fragmented research and expertise across the globe to find innovative new solutions to the Food-Water-Energy Nexus challenge. \nThe call aims to develop more resilient\, applied urban solutions that bring inter- and trans-disciplinary research and innovation together from across the globe\, to benefit a much wider range of stakeholders. The rapid urbanization of the world’s population underscores the importance of this focus. JPI Urban Europe and Belmont Forum have partnered to ensure a maximum audience across physical\, natural\, social sciences and arts and humanities as well as policy and decision makers and stakeholders. Webinar The aim of the webinar is to give information on the call to potential applicants; companies\, cities\, municipalities\, regions\, consumers\, citizens’ representatives\, NGOs and research organisations. \nA further purpose is to facilitate match-making and partner search between international partners. Participants are encouraged to prepare a three-minute pitch of their projects and define what partners they are looking for. We also encourage publishing information on the Linkedin page and the Future Earth platform. Attending the webinar is free of charge and details on how to access the webinar is in the menu on the right. Stay tuned to both the Belmont Forum and JPI Urban Europe websites for further information on the call. \nAgenda\n– Presentation of the JPI Urban Europe and the Belmont Forum\n– Presentation of the Joint Initiative SUGI/Food-Water-Energy Nexus\n– Matchmaking including pitching of projects’ ideas and concepts\n– Q&A
URL:https://jpi-urbaneurope.eu/event-calendar/sugi-fwe-nexus-webinar-january/
END:VEVENT
BEGIN:VEVENT
DTSTART;TZID=Europe/Paris:20170120T090000
DTEND;TZID=Europe/Paris:20170120T090000
DTSTAMP:20260422T222948
CREATED:20170116T145012Z
LAST-MODIFIED:20170116T145104Z
UID:6652-1484902800-1484902800@jpi-urbaneurope.eu
SUMMARY:Info seminar in Slovenia (in Slovenian)
DESCRIPTION:ARRS is organizing a info seminar about the SUGI/FEW Nexus Call on January 20.\nIn Slovenian. \nRead more
URL:https://jpi-urbaneurope.eu/event-calendar/info-seminar-slovenia/
LOCATION:Masarykova cesta 16\, Ljubljana\, Slovenia
END:VEVENT
END:VCALENDAR