BEGIN:VCALENDAR
VERSION:2.0
PRODID:-//JPI Urban Europe - ECPv6.15.20//NONSGML v1.0//EN
CALSCALE:GREGORIAN
METHOD:PUBLISH
X-ORIGINAL-URL:https://jpi-urbaneurope.eu
X-WR-CALDESC:Events for JPI Urban Europe
REFRESH-INTERVAL;VALUE=DURATION:PT1H
X-Robots-Tag:noindex
X-PUBLISHED-TTL:PT1H
BEGIN:VTIMEZONE
TZID:UTC
BEGIN:STANDARD
TZOFFSETFROM:+0000
TZOFFSETTO:+0000
TZNAME:UTC
DTSTART:20160101T000000
END:STANDARD
END:VTIMEZONE
BEGIN:VEVENT
DTSTART;TZID=UTC:20170301T093000
DTEND;TZID=UTC:20170301T140000
DTSTAMP:20260422T192854
CREATED:20170206T092715Z
LAST-MODIFIED:20170206T095611Z
UID:6812-1488360600-1488376800@jpi-urbaneurope.eu
SUMMARY:Workshop: ‘Creating a city-wide test bed for digital innovation’
DESCRIPTION:The event will showcase the world-leading research being conducted within communications and digital living by the University of Bristol’s Faculty of Engineering. It will provide an opportunity to learn about its work on optical networks\, wireless technologies (including IoT and 5G experimentation) and the application of novel network technologies and data in the development of our cities. It will also include discussions with European partners on the broader challenges and opportunities of creating a city-wide test bed for digital innovation\, insights into the EU policies and funding\, which can support digital R&D in cities\, and a light networking lunch. \nEVENT SITE and REGISTRATION
URL:https://jpi-urbaneurope.eu/event-calendar/workshop-creating-a-city-wide-test-bed-for-digital-innovation/
LOCATION:Bristol-Brussels Office\, 108 Rue du Trône\, Brussels\, 1050\, Belgium
END:VEVENT
BEGIN:VEVENT
DTSTART;VALUE=DATE:20170302
DTEND;VALUE=DATE:20170303
DTSTAMP:20260422T192854
CREATED:20170206T104915Z
LAST-MODIFIED:20170206T104915Z
UID:6815-1488412800-1488499199@jpi-urbaneurope.eu
SUMMARY:Smart City Governance: building new solutions\, exploiting the potentials - Exploitation Workshop
DESCRIPTION:JPI Urban Europe in collaboration with CEMR and URBIS are promoting an Exploitation Workshop – Smart City Governance: building new solutions\, exploiting the potentials – to be hosted by the CEMR Conference Centre\, Brussels on Thursday 2 March 2017. \nThe workshop will engage with a diversity of expertise in structured dialogue exploring new opportunities for maximising the exploitation potentials of smart city governance solutions. The workshop aim is to explore these potentials to enhance project exploitation\, considering market opportunity\, the development of new business models\, as well as longer-term dynamics and sustainability. \nThe event will be animated by expert contributions from PwC\, URBIS\, the European Commission\, European Environment Agency\, European Innovation Partnership Smart Cities and Communities (EIP SCC)\, European city networks\, and a multiplicity of JPI Urban Europe project partners. The workshop will present outputs of the recently completed PwC large-scale study of the overall benefits and impact of the Copernicus programme\, and develop and test EIP SCC guiding principles on scaling up and replication of Smart City Plans devised to increase the impact of smart city and community projects and pilots. \nPLEASE NOTE: Places at the workshop are limited as the prime focus is engagement between URBIS and JPI Urban Europe projects – however\, please notify if you can offer a specific contribution by mailing to: David.Ludlow@uwe.ac.uk
URL:https://jpi-urbaneurope.eu/event-calendar/smart-city-governance-building-new-solutions-exploiting-the-potentials-exploitation-workshop/
LOCATION:CEMR Conference Centre\, Brussels\, Belgium
ATTACH;FMTTYPE=image/jpeg:/wp-content/uploads/2017/02/stadhuis_van_brussel.jpg
END:VEVENT
BEGIN:VEVENT
DTSTART;VALUE=DATE:20170306
DTEND;VALUE=DATE:20170310
DTSTAMP:20260422T192854
CREATED:20160920T085620Z
LAST-MODIFIED:20170303T062715Z
UID:6066-1488758400-1489103999@jpi-urbaneurope.eu
SUMMARY:SURF Academy 2016/2017
DESCRIPTION:In cooperation with the VerDuS programme SURF (Smart Urban Regions of the Future)\, the Research Schools TRAIL and NETHUR organize a 4-ECTS education program. This programme is tailor made for recently started SURF-researchers (PhD students\, Postdocs\, researchers) in both the 5 national projects and the 13 international projects (ENSCC-call JPI Urban Europe).\n Join the programme to improve your knowledge\, sharpen your skills and become a wellinformed member of the SURF community. Attending the SURF Academy also enhances the cohesion and possible synergetic effects between the SURF projects. All recently started SURF researchers are expected to participate in the Academy. The SURF Consortia Seminar on Friday 10 March is meant for the entire SURF community\, i.e all members of the consortia of the 5 national and the 13 international SURF-projects. \nSURF Academy: mixed programme\nThe programme provides a mix of fundamental knowledge about the SURF domain as well as skills for performing multidisciplinary research with SURF-practitioners. It is characterized by alternating lectures and assignments\, many interaction moments between students and lecturers\, feedback on individual research projects\, and workshops. \nFirst week (10-13 October 2016)\nOn Monday we start with an introduction and a workshop on valorization. You will learn how to do a short pitch about (the societal value of) your project. On Tuesday transport systems and transport innovations are the central issue. On Wednesday we focus on cities and urban systems\, including innovations. We will also visit AMS (the Amsterdam Institute for Advanced Metropolitan Solutions). Thursday morning is about transitions in the urban domain; in the afternoon governance is the central theme. \nSecond week (6 -9 March 2017)\nOn Monday we reflect on the first week and responsible innovation (ethical and societal aspects of technology) will be discussed. On Tuesday ‘society’ is central again with a part on Cost Benefit Analysis and a part on the role of citizens and self-organisation. Wednesday is all about cooperation with non-academic partners and knowledge co-creation. Thursday is about knowledge valorization and dissemination. \nPDF with more information
URL:https://jpi-urbaneurope.eu/event-calendar/surf-academy-20162017-2/
LOCATION:Utrecht\, Netherlands
ATTACH;FMTTYPE=image/jpeg:/wp-content/uploads/2016/09/utrecht.jpg
END:VEVENT
BEGIN:VEVENT
DTSTART;TZID=UTC:20170306T150000
DTEND;TZID=UTC:20170306T150000
DTSTAMP:20260422T192854
CREATED:20170505T080433Z
LAST-MODIFIED:20170505T080433Z
UID:7471-1488812400-1488812400@jpi-urbaneurope.eu
SUMMARY:RSA Policy Expo Grant Scheme - Submission deadline
DESCRIPTION:The Association has launched a new policy research initiative worth £15\,000 (C. €17\,000\, US$18\,000) to successful teams aiming to connect their work and wider communities to societal questions and policy needs. \nThis new initiative is called an “Expo” taking the word’s meaning of a “comprehensive description and explanation of an idea or theory”. \nThe Association seeks a leading and impactful role for its community\, to inform and influence policy and practice in creative and ambitious ways.The aim is to support Expos addressing issues that are important\, current and having an impact on society. These Expos will investigate how the communities of regional studies\, regional science\, urban studies and related fields can respond to new societal challenges and opportunities. \nIn 2017\, the RSA provides funding for up to three Expos on topics related to the priority areas set out in the RSA Development Plan 2015 – 2020. \nApplications are invited on the following themes:\n◾Industrial Strategy and the Role of Industry\, Employment & Apprenticeships in Cities and Regions\n◾Climate change\, adaptation and governance\n◾Global Migration and regional development \nThe two key deliverables from each Expo are:\n◾an article for Regional Studies\, Regional Science with the Article Processing Charge (APC) sponsored by the Association from the withheld portion of the grant (articles will be subject to peer review)\n◾a book in the new RSA Impact and Policy Series. This would be a minimum 25\,000 and maximum 30\,000 words policy book. It could be in the form of a report or edited papers with an introduction and conclusion. It must include an executive summary highlighting the policy implications from the work. \nExpos will normally run for no more than 18 months from commissioning to the submission of the book and RSRS article for review \nThe submission deadline for detailed applications is 6th March 2017\, 3pm (GMT). \nMore information and related documents
URL:https://jpi-urbaneurope.eu/event-calendar/rsa-policy-expo-grant-scheme-submission-deadline/
END:VEVENT
BEGIN:VEVENT
DTSTART;VALUE=DATE:20170307
DTEND;VALUE=DATE:20170310
DTSTAMP:20260422T192854
CREATED:20170220T111205Z
LAST-MODIFIED:20170220T111347Z
UID:6894-1488844800-1489103999@jpi-urbaneurope.eu
SUMMARY:Smart City Exhibition & Forum for South-East Europe
DESCRIPTION:You AIM to make your business more competitive?\nYou LOOK FOR environmental and cost-effective solutions?\nYou are INTERESTED to know about the opportunities in SE Europe?\nThen ATTEND the Conferences and VISIT the exhibitions for SE Europe.\nDO NOT MISS the opportunity to LEARN how to save resources\, how to reduce costs and increase the effectiveness of your business.\nYou will SEE at one place future-oriented solutions.\nYou will GENERATE business and network with exhibitors\, attendees and speakers from whole Europe. \n‘EE & RE’\, ‘Smart Cities’ and ‘Save the Planet’ are three parallel events. For 13 years they have successfully paved the way for advanced technologies and the best of knowledge to the local market of South-East Europe. \nMore information
URL:https://jpi-urbaneurope.eu/event-calendar/smart-city-exhibition-forum-for-south-east-europe/
LOCATION:Inter Expo Center\, Tsarigradsko Shosse 147\, Sofia\, Bulgaria
END:VEVENT
BEGIN:VEVENT
DTSTART;VALUE=DATE:20170310
DTEND;VALUE=DATE:20170311
DTSTAMP:20260422T192854
CREATED:20160920T085840Z
LAST-MODIFIED:20170310T092224Z
UID:6070-1489104000-1489190399@jpi-urbaneurope.eu
SUMMARY:SURF Consortia Seminar
DESCRIPTION:In cooperation with the VerDuS programme SURF (Smart Urban Regions of the Future)\, the Research Schools TRAIL and NETHUR organize a 4-ECTS education program. This programme is tailor made for recently started SURF-researchers (PhD students\, Postdocs\, researchers) in both the 5 national projects and the 13 international projects (ENSCC-call JPI Urban Europe).\n Join the programme to improve your knowledge\, sharpen your skills and become a wellinformed member of the SURF community. Attending the SURF Academy also enhances the cohesion and possible synergetic effects between the SURF projects. All recently started SURF researchers are expected to participate in the Academy. The SURF Consortia Seminar on Friday 10 March is meant for the entire SURF community\, i.e all members of the consortia of the 5 national and the 13 international SURF-projects. \nSURF Consortia Seminar (10 March 2017)\nThis day links all SURF community members (so also the supervisors / senior researchers and practitioners) to the themes that have been discussed in the SURF Academy\, with a special focus on knowledge co-creation. The programme and the registration form for this seminar will be sent later. \nPDF with more information
URL:https://jpi-urbaneurope.eu/event-calendar/surf-consortia-seminar/
LOCATION:Utrecht\, Netherlands
ATTACH;FMTTYPE=image/jpeg:/wp-content/uploads/2016/09/utrecht.jpg
END:VEVENT
BEGIN:VEVENT
DTSTART;VALUE=DATE:20170315
DTEND;VALUE=DATE:20170316
DTSTAMP:20260422T192854
CREATED:20170123T071609Z
LAST-MODIFIED:20170302T083609Z
UID:6727-1489536000-1489622399@jpi-urbaneurope.eu
SUMMARY:SUGI/FWE Nexus call: Submission deadline pre-proposals
DESCRIPTION:15 March 2017 at 1:00 p.m. EST\n6:00 p.m. UTC / 7:00 p.m. CET\n16 March 2017 3:00 a.m. JST \n> Read more about the SUGI/FWE Nexus call
URL:https://jpi-urbaneurope.eu/event-calendar/sugifwe-nexus-call-submission-deadline-pre-proposals/
CATEGORIES:jpi-events
END:VEVENT
BEGIN:VEVENT
DTSTART;VALUE=DATE:20170316
DTEND;VALUE=DATE:20170318
DTSTAMP:20260422T192854
CREATED:20170220T105246Z
LAST-MODIFIED:20170220T105246Z
UID:6888-1489622400-1489795199@jpi-urbaneurope.eu
SUMMARY:Imagining Urban Futures
DESCRIPTION:Imagining Urban Futures is the inaugural festival of the Urban Futures Studio. \nThe programme consists of a two-day academic festival during which academics and practitioners from a range of fields and disciplines will deliberate complex questions regarding the future of our (urban) environments. \nThe main purpose of the event is to investigate an urgent question:\n“Why is it so difficult to imagine new\, positive urban futures?” \nMore information\nRegistration
URL:https://jpi-urbaneurope.eu/event-calendar/imagining-urban-futures/
LOCATION:Utrecht University\, Utrecht\, Netherlands
END:VEVENT
BEGIN:VEVENT
DTSTART;VALUE=DATE:20170324
DTEND;VALUE=DATE:20170325
DTSTAMP:20260422T192854
CREATED:20170201T120250Z
LAST-MODIFIED:20170320T121825Z
UID:6774-1490313600-1490399999@jpi-urbaneurope.eu
SUMMARY:Joint Workshop:  “Strengthening Transnational Funding Cooperation to tackle the urbanisation challenge”
DESCRIPTION:“Strengthening Transnational Funding Cooperation to tackle the urbanisation challenge” is a Joint Workshop organized by\n Danube-INCO.NET in cooperation with Joint Programming Initiative Urban Europe & EXPAND \nAim of the workshop\nBased on previous workshops\, activities and discussions on transnational cooperation of funding agencies this workshop will focus on a particular transnational research and innovation initiative focusing on urban matters. The mechanisms\, priorities\, instruments and activities of the Joint Programming Initiative Urban Europe will be presented and opportunities for Danube Region countries to join various (funding) activities will be discussed. Relevant conditions for joining and participating in the initiative will be reflected and the requirements of the Danube Region countries for such funding engagements will be identified. \nParticipants\nThe workshop addresses therefore in particular STI decision makers of ministries and funding bodies/agencies in the Danube Region countries interested in transnational cooperation on urban matters as well as programme owners and managers of urban-related national research and innovation programmes. \nExpected outcome \n\nOverview of the strategy\, main activities and instruments of JPI Urban Europe\nMatch of the strategic and thematic funding priorities of JPI Urban Europe and the Danube Region countries\nReflection on the JPI Urban Europe 2018-2020 (funding) plans\nSpecification of requirements and opportunities for Danube Region countries to participate in JPI Urban Europe funding activities (e.g. utilization of structural funds\, participation in ERA-NET Cofunds\, etc.)\nIdentification of key organizations and people in the Danube Region countries regarding urban sustainability and transition that should/could be involved in further discussions and funding activities\nIdeas how to follow-up in individual Danube Region countries (fact finding missions)\n\nGo to REGISTRATION and EVENT WEBSITE\nDownload DRAFT AGENDA and BACKGROUND DOC  \nOrganiser Contact \nRalf König\nStaff Position International STI Cooperation\nFFG – Austrian Research Promotion Agency\nDivision European and International Programmes\nPhone: +43 (0)57755 – 4601\nEmail: ralf.koenig@ffg.at \nJohannes Riegler\nJPI Urban Europe\nAssistant to the Management Board\nFFG – Austrian Research Promotion Agency\nDivision European and International Programmes\nPhone: +43 (0)57755 4010\nEmail: johannes.riegler@ffg.at \nLinks \nDanube-INCO.NET\nAdvancing Research and Innovation in the Danube Region \nJoint Programming Initiative Urban Europe \n EXPAND\nEnhancing co-creation in JPI Urban Europe through widening Member State and stakeholder participation
URL:https://jpi-urbaneurope.eu/event-calendar/joint-workshop-strengthening-transnational-funding-cooperation-to-tackle-the-urbanisation-challenge/
LOCATION:FFG – Austrian Research Promotion Agency\, Sensengasse 1\, Vienna\, 1090\, Austria
CATEGORIES:jpi-events
ATTACH;FMTTYPE=image/jpeg:/wp-content/uploads/2016/05/Veinna-center.jpg
END:VEVENT
END:VCALENDAR