BEGIN:VCALENDAR
VERSION:2.0
PRODID:-//JPI Urban Europe - ECPv6.15.20//NONSGML v1.0//EN
CALSCALE:GREGORIAN
METHOD:PUBLISH
X-ORIGINAL-URL:https://jpi-urbaneurope.eu
X-WR-CALDESC:Events for JPI Urban Europe
REFRESH-INTERVAL;VALUE=DURATION:PT1H
X-Robots-Tag:noindex
X-PUBLISHED-TTL:PT1H
BEGIN:VTIMEZONE
TZID:UTC
BEGIN:STANDARD
TZOFFSETFROM:+0000
TZOFFSETTO:+0000
TZNAME:UTC
DTSTART:20160101T000000
END:STANDARD
END:VTIMEZONE
BEGIN:VEVENT
DTSTART;VALUE=DATE:20170405
DTEND;VALUE=DATE:20170408
DTSTAMP:20260422T164035
CREATED:20170227T112447Z
LAST-MODIFIED:20170227T112447Z
UID:6945-1491350400-1491609599@jpi-urbaneurope.eu
SUMMARY:Open Innovation Summit
DESCRIPTION:OIS 2017 will explore the key enabling factors of cities’ capacity to innovate\, prosper and share the benefits of growth with all. OIS 2017 will bring together leaders from governments\, cities\, corporates and civil society organisations to share successful practices\, models and ideas\, in the spirit of mutual learning and exchange. Turin will host the main event on 5-7 April\, as a European middle-size city that has proven able to develop and implement a post-industrial strategy in order to remain competitive on the international stage and share with the whole community the benefits that come from that. An International call for Solutions for Civic and Smart City technologies has been launched and the winners will be showcased in the Tech Demonstrator of the Open Innovation Center of the City of Turin\, Open Incet\, where the main event will take place. \nMore information
URL:https://jpi-urbaneurope.eu/event-calendar/open-innovation-summit/
LOCATION:Open Incet Turin\,  Via Francesco Cigna 96/17\, Turin\, 10155\, Italy
ATTACH;FMTTYPE=image/jpeg:/wp-content/uploads/2017/02/turin.jpg
END:VEVENT
BEGIN:VEVENT
DTSTART;VALUE=DATE:20170407
DTEND;VALUE=DATE:20170409
DTSTAMP:20260422T164035
CREATED:20170226T103710Z
LAST-MODIFIED:20170303T105450Z
UID:6943-1491523200-1491695999@jpi-urbaneurope.eu
SUMMARY:Participatory Urbanism 2017
DESCRIPTION:The Participatory Urbanism Forum is the highlight of 4 years of interdisciplinary collaboration between researchers\, city planners\, architects\, and urban activists in 30 countries. The collaboration aims to promote evidence-based insights on how to empower cities and urban hubs through citizen engagement and participatory planning. It brings together public officials\, urban activists\, businesses and researchers to launch the European Charter on Collaborative Urban Development. \nMore information
URL:https://jpi-urbaneurope.eu/event-calendar/participatory-urbanism-2017/
LOCATION:La Tricoterie @ Brussels\, Belgium
END:VEVENT
BEGIN:VEVENT
DTSTART;VALUE=DATE:20170420
DTEND;VALUE=DATE:20170422
DTSTAMP:20260422T164035
CREATED:20170320T134537Z
LAST-MODIFIED:20170412T101817Z
UID:7127-1492646400-1492819199@jpi-urbaneurope.eu
SUMMARY:Games for Cities Conference & Doctoral Consortium
DESCRIPTION:How can games improve the process of urban planning? That’s the central question at the upcoming Games for Cities International Conference\, taking place in Het Nieuwe Instituut in Rotterdam\, April 20-21 2017.\nAt the conference\, game designers\, researchers\, architects\, planners and policymakers explore how games can be used as a method for generating more engaged citizens and more inclusive cities. Gaming offers a real alternative to standard forms of civic engagement in the 21st century\, bringing a range of stakeholders together and enabling collaborative decision-making and conflict\nresolution to emerge from this.\nKeynotes include: Paolo Pedercini of Molleindustria\, Eric Gordon from Emerson’s Engagement Lab\, Urban Think Tank’s Alfredo Brillembourg\, Felix Madrazo from Inter.National.Design\, and Play the City’s Ekim Tan. 10 leading city-games will also be available for play at the conference. \nMore information
URL:https://jpi-urbaneurope.eu/event-calendar/games-for-cities-conference-doctoral/
LOCATION:Het Nieuwe Instituut\, Rotterdam\, Netherlands
ATTACH;FMTTYPE=image/jpeg:/wp-content/uploads/2017/03/rotterdam-events.jpg
END:VEVENT
BEGIN:VEVENT
DTSTART;VALUE=DATE:20170424
DTEND;VALUE=DATE:20170426
DTSTAMP:20260422T164035
CREATED:20170406T095913Z
LAST-MODIFIED:20170406T095913Z
UID:7317-1492992000-1493164799@jpi-urbaneurope.eu
SUMMARY:EU-India Showcase Event
DESCRIPTION:
URL:https://jpi-urbaneurope.eu/event-calendar/eu-india-showcase-event/
LOCATION:Brussels\, Belgium
END:VEVENT
BEGIN:VEVENT
DTSTART;VALUE=DATE:20170426
DTEND;VALUE=DATE:20170429
DTSTAMP:20260422T164035
CREATED:20170320T143622Z
LAST-MODIFIED:20170427T090517Z
UID:7131-1493164800-1493423999@jpi-urbaneurope.eu
SUMMARY:Energy Cities' Annual Conference
DESCRIPTION:In 2017\, the Energy Cities Conference will be hosted by the German city of Stuttgart\, well-known for its industrial activity as well as for its foresighted climate and energy policy. In a region which can be considered the birthplace of the German energy transition (Energiewende)\, Stuttgart will serve as a learning place on the societal\, cultural\, economic and technological shifts that come with the energy transition in Europe. \nMore information
URL:https://jpi-urbaneurope.eu/event-calendar/energy-cities-annual-conference/
LOCATION:City Hall of Stuttgart\, Marktplatz 1\, Stuttgart\, Germany
ATTACH;FMTTYPE=image/jpeg:/wp-content/uploads/2017/03/stutgart.jpg
END:VEVENT
END:VCALENDAR