BEGIN:VCALENDAR
VERSION:2.0
PRODID:-//JPI Urban Europe - ECPv6.15.20//NONSGML v1.0//EN
CALSCALE:GREGORIAN
METHOD:PUBLISH
X-WR-CALNAME:JPI Urban Europe
X-ORIGINAL-URL:https://jpi-urbaneurope.eu
X-WR-CALDESC:Events for JPI Urban Europe
REFRESH-INTERVAL;VALUE=DURATION:PT1H
X-Robots-Tag:noindex
X-PUBLISHED-TTL:PT1H
BEGIN:VTIMEZONE
TZID:UTC
BEGIN:STANDARD
TZOFFSETFROM:+0000
TZOFFSETTO:+0000
TZNAME:UTC
DTSTART:20160101T000000
END:STANDARD
END:VTIMEZONE
BEGIN:VEVENT
DTSTART;VALUE=DATE:20170601
DTEND;VALUE=DATE:20170603
DTSTAMP:20260422T110835
CREATED:20170423T175129Z
LAST-MODIFIED:20170423T175129Z
UID:7414-1496275200-1496447999@jpi-urbaneurope.eu
SUMMARY:Mad City - International Happening of Urban Planning
DESCRIPTION:Consider this a happening\, a sparkling and flavourful event for urban planners by urban planners. Quality interactions\, active networking\, constant challenging and questioning\, different future visions\, relaxing and having fun. And much more. \nMunicipal urban planners are the ones who have the privilege and the responsibility to shape future cities. Mix and mingle with your fellow colleagues from all corners of the world\, listen to original opinions and discuss fresh ideas! \nMore information
URL:https://jpi-urbaneurope.eu/event-calendar/mad-city-international-happening-of-urban-planning/
LOCATION:Riga\, Latvia
END:VEVENT
BEGIN:VEVENT
DTSTART;VALUE=DATE:20170605
DTEND;VALUE=DATE:20170608
DTSTAMP:20260422T110835
CREATED:20170417T131136Z
LAST-MODIFIED:20170417T131136Z
UID:7398-1496620800-1496879999@jpi-urbaneurope.eu
SUMMARY:World Sustainable Built Environment Conference 2017 (WSBE17)
DESCRIPTION:WSBE17 Hong Kong is the first-ever world conference of SBE Series held in Hong Kong. Themed “Transforming Our Built Environment through Innovation and Integration: Putting Ideas into Action”\, WSBE17 Hong Kong converges top findings from 20 SBE Regional Conferences\, connecting 400 business professionals and academia to present their cutting-edge findings from 50 countries. 1\,800 top-notch industry experts\, academia and government leaders will come together to discuss and be inspired to transform the built environment by Putting Ideas into Action. \nMore information and registration
URL:https://jpi-urbaneurope.eu/event-calendar/world-sustainable-built-environment-conference-2017-wsbe17/
LOCATION:Hong Kong Convention and Exhibition Centre\, 1 Expo Dr\, Wan Chai\, Hongkong\, Hong Kong
END:VEVENT
BEGIN:VEVENT
DTSTART;VALUE=DATE:20170607
DTEND;VALUE=DATE:20170609
DTSTAMP:20260422T110835
CREATED:20170228T115058Z
LAST-MODIFIED:20170608T070952Z
UID:6961-1496793600-1496966399@jpi-urbaneurope.eu
SUMMARY:Smart & Safe City Event
DESCRIPTION:The 7th edition of the Smart City Event will take place from the 7th until the 8th of June 2017 at De Pier in The Hague\, Netherlands. About a thousand participants from all over the world will visit this large scale event to meet\, inspire and create. \nOn 7 and 8 June 2017 the Safe City Event takes place at De Pier in The Hague\, Netherlands.The Hague is the international city of peace and justice. Governments\, corporates and knowledge institutions will work together on smart solutions for safety and security problems in the city (of the future). At the Safe City Event you meet safety and security experts and you hear about best practices of resilient cities\, cyber security\, contra terrorism\, disaster management and more. \nMore information
URL:https://jpi-urbaneurope.eu/event-calendar/smart-safe-city-event/
LOCATION:The Pier\, Strandweg 150-154\, The Hague\, 2586 JW
END:VEVENT
BEGIN:VEVENT
DTSTART;VALUE=DATE:20170608
DTEND;VALUE=DATE:20170609
DTSTAMP:20260422T110835
CREATED:20170409T100110Z
LAST-MODIFIED:20170409T100110Z
UID:7338-1496880000-1496966399@jpi-urbaneurope.eu
SUMMARY:URB@Exp Final Project Conference
DESCRIPTION:Topic: Towards new forms of urban governance and city development – Learning from urban experiments with Living Labs & City Labs.\nAn interactive event for urban policymakers\, lab practitioners and the scientific community hosted by the City of Graz and the University of Graz. \nMore information and registration
URL:https://jpi-urbaneurope.eu/event-calendar/urbexp-final-project-conference/
LOCATION:Graz City Hall\, Hauptplatz 1\, Graz\, Austria
END:VEVENT
BEGIN:VEVENT
DTSTART;VALUE=DATE:20170612
DTEND;VALUE=DATE:20170615
DTSTAMP:20260422T110835
CREATED:20160915T051054Z
LAST-MODIFIED:20170410T111025Z
UID:5659-1497225600-1497484799@jpi-urbaneurope.eu
SUMMARY:EMBRACE THE WATER – a Cities of the Future Conference
DESCRIPTION:The conference Embrace the Water aims at gathering urban planners and water professionals from around the globe in order to share experiences and projects on the opportunities and threats of water in modern\, sustainable and innovative cities. The conference contributes to celebrating the Gothenburg 400 year’s jubilee\, and to the IWA Cities of the Future programme.\nMore information
URL:https://jpi-urbaneurope.eu/event-calendar/embrace-the-water-a-cities-of-the-future-conference/
LOCATION:Clarion Hotel Post @ Drottningtorget 10\, 411 03 Göteborg\, Sweden
END:VEVENT
BEGIN:VEVENT
DTSTART;VALUE=DATE:20170620
DTEND;VALUE=DATE:20170621
DTSTAMP:20260422T110835
CREATED:20170615T112820Z
LAST-MODIFIED:20170616T090733Z
UID:8197-1497916800-1498003199@jpi-urbaneurope.eu
SUMMARY:National Urban Forum - Towards a National Urban Policy
DESCRIPTION:The objective of the National Urban Forum is to raise the profile of local implementation of the New Urban Agenda and the Agenda 2030 at the country level\, promoting inclusive debates towards improved sustainable urbanization strategies\, policies and programs. \nThe expected outcomes of the forum are knowledge base building – capacity building\, tools and national support for implementation\, engagement – a permanent multi-stakeholder platform\, awareness raising – putting the local and urban dimensions at the centre of national priorities\, and policy advice – elaborating on a National Urban Policy. \nThis focus of this National Urban Forum will be the multi-stakeholder formulation of a National Urban Policy. It will serve as input to the Governments’ initiatives and be a platform for safeguarding the adequacy and implementation of policy at the local level. \nThe Forum will be held in English as a parallel session of the International Conference “Localizing the Global Agendas”. Participation to the National Urban Forum is upon registration at: http://bit.ly/2raxy3p
URL:https://jpi-urbaneurope.eu/event-calendar/national-urban-forum-towards-a-national-urban-policy/
LOCATION:Stockholm\, Stockholm\, Sweden
END:VEVENT
BEGIN:VEVENT
DTSTART;VALUE=DATE:20170621
DTEND;VALUE=DATE:20170622
DTSTAMP:20260422T110835
CREATED:20170409T110030Z
LAST-MODIFIED:20170409T110030Z
UID:7345-1498003200-1498089599@jpi-urbaneurope.eu
SUMMARY:Deadline for applications: The European Capital of Innovation Award - iCapital
DESCRIPTION:Could your city be the next European Capital of Innovation? \nThe third edition of the European Capital of Innovation award is open! \nThe contest is open to cities:\n◾which have over 100 000 inhabitants (in countries where there is no city with more than 100 000 inhabitants\, the largest city is eligible to apply)\n◾from a EU Member State or a country associated to Horizon 2020\, the EU’s research and innovation programme. \nMore information and application
URL:https://jpi-urbaneurope.eu/event-calendar/deadline-for-applications-the-european-capital-of-innovation-award-icapital/
END:VEVENT
BEGIN:VEVENT
DTSTART;VALUE=DATE:20170629
DTEND;VALUE=DATE:20170701
DTSTAMP:20260422T110835
CREATED:20170406T104407Z
LAST-MODIFIED:20170406T104407Z
UID:7319-1498694400-1498867199@jpi-urbaneurope.eu
SUMMARY:International conference on global research assessment and peer review
DESCRIPTION:The global research assessment and peer review system is slowly stretching to its limits and researchers everywhere are affected by this development. One of the problems is an ever increasing number of applications (not paralleled by an increasing amount of funding)\, resulting in turn in an increasing amount of necessary peer reviews. \nMore information
URL:https://jpi-urbaneurope.eu/event-calendar/international-conference-on-global-research-assessment-and-peer-review/
LOCATION:West Indisch Huis\, Haarlemmerstraat 75\, Amsterdam\, 1013
END:VEVENT
END:VCALENDAR