BEGIN:VCALENDAR
VERSION:2.0
PRODID:-//JPI Urban Europe - ECPv6.15.20//NONSGML v1.0//EN
CALSCALE:GREGORIAN
METHOD:PUBLISH
X-ORIGINAL-URL:https://jpi-urbaneurope.eu
X-WR-CALDESC:Events for JPI Urban Europe
REFRESH-INTERVAL;VALUE=DURATION:PT1H
X-Robots-Tag:noindex
X-PUBLISHED-TTL:PT1H
BEGIN:VTIMEZONE
TZID:UTC
BEGIN:STANDARD
TZOFFSETFROM:+0000
TZOFFSETTO:+0000
TZNAME:UTC
DTSTART:20170101T000000
END:STANDARD
END:VTIMEZONE
BEGIN:VEVENT
DTSTART;VALUE=DATE:20180201
DTEND;VALUE=DATE:20180203
DTSTAMP:20260420T151452
CREATED:20171211T134434Z
LAST-MODIFIED:20180131T070042Z
UID:9795-1517443200-1517615999@jpi-urbaneurope.eu
SUMMARY:Scientific Advisory Board Meeting
DESCRIPTION:For Scientific Advisory Board
URL:https://jpi-urbaneurope.eu/event-calendar/scientific-advisory-board-prague/
LOCATION:Prague
END:VEVENT
BEGIN:VEVENT
DTSTART;TZID=UTC:20180205T093000
DTEND;TZID=UTC:20180205T223000
DTSTAMP:20260420T151452
CREATED:20180125T111312Z
LAST-MODIFIED:20180125T111610Z
UID:10057-1517823000-1517869800@jpi-urbaneurope.eu
SUMMARY:ENRICH in China - How to manage IPR in China
DESCRIPTION:This webinar provides an overall perspective on the major trends concerning the protection of intellectual property rights in China and on how European organisations may prepare themselves for these trends. \nThe webinar also presents how ENRICH in China and IPR Helpdesk in China may support IPR-related demands from European entities in China. \nRegistration\nGo the registration (external site) \nENRICH in China Twitter
URL:https://jpi-urbaneurope.eu/event-calendar/enrich-in-china-how-to-manage-ipr-in-china/
END:VEVENT
BEGIN:VEVENT
DTSTART;VALUE=DATE:20180207
DTEND;VALUE=DATE:20180214
DTSTAMP:20260420T151452
CREATED:20171211T134531Z
LAST-MODIFIED:20180126T121855Z
UID:9798-1517961600-1518566399@jpi-urbaneurope.eu
SUMMARY:UN Habitat: World Urban Forum 9
DESCRIPTION:The Theme of the Ninth session of the World Urban Forum (WUF9) “Cities 2030\, Cities for All: Implementing the New Urban Agenda” – places the Forum’s focus on the New Urban Agenda as a tool and accelerator for achieving Agenda 2030 and the Sustainable Development Goals. \nWUF9 therefore provides a great opportunity to garner the efforts of all relevant actors to deliberate on\, identify and commit to implementation of concrete solutions for the transformative commitments made in the New Urban Agenda (which are also fully aligned with the Sustainable Development Goals). \nParticipation by JPI Urban Europe\nJPI Urban Europe is represented by Johannes Riegler from the Management Board and Sigrun Kabisch from the JPI Urban Europe scientific advisory board. \nwww.wuf9.org \n\nThe World Urban Forum (WUF) is a non-legislative technical forum convened by the United Nations Human Settlements Programme (UN-Habitat) held since 2002. The Forum gathers a wide range of experts from every walk of life. Participants of the Forum include\, but are not limited to\, national\, regional and local governments\, non-governmental organizations\, community-based organizations\, professionals\, research institutions and academies\, professionals\, private sector\, development finance institutions\, foundations\, media and United Nations organizations and other international agencies. \nIt is recognized as the foremost global arena for interaction among policymakers\, local government leaders\, non-governmental organizations and expert practitioners in the field of sustainable urban development and human settlements.
URL:https://jpi-urbaneurope.eu/event-calendar/un-habitat-world-urban-forum-9/
LOCATION:Kuala Lumpur
END:VEVENT
BEGIN:VEVENT
DTSTART;TZID=UTC:20180211T090000
DTEND;TZID=UTC:20180211T110000
DTSTAMP:20260420T151452
CREATED:20180126T124541Z
LAST-MODIFIED:20180129T152918Z
UID:10083-1518339600-1518346800@jpi-urbaneurope.eu
SUMMARY:JPI Urban Europe at WUF9: Networking Event
DESCRIPTION:Networking Event: The value of City-City Partnerships for Implementing the New Urban Agenda \nThis event is from 9:00am to 11:00am on 11 February 2018. (Local time) \nOrganised by JPI Urban Europe and URBAN-EU-CHINA \nFor implementing the New Urban Agenda\, partnerships with strong commitments and cooperation on all scales\, from local to global are required. Bi-lateral and multilateral partnerships between cities can enhance international support for effective and targeted capacity-building to support national plans to implement the NUA and SDGs. Exchange and co-creation of knowledge\, technologies and experiences regarding sustainable city services and infrastructures offers promising prospects for addressing issues of urban planning\, environment\, health\, water\, transport\, ICT\, hazards\, resilience and disaster risk reduction\, and improving the well-being of citizens. \nWith city-city partnership we understand the “triple helix” of university\, industry and local government relations. This model has become very popular for cooperative innovation in the last two decades. The helix is used as an image to illustrate a complex network of relationships\, facilitating dynamic co-creation and respecting links\, flows and backflows between partners. More recently\, the term “quadruple helix” has been used\, in which the fourth helix is represented as civil society becoming involved in the innovation process. \nAim\nThe main aim of this session is to assess the framework conditions for dedicated\, committed and successful triple/quadruple helix city-city partnerships for implementing the NUA. The discussions will be framed by presentations of examples for city-city partnerships aiming at exchanging knowledge\, mutual learning and capacity building of projects funded by JPI Urban Europe and the experience of URBAN-EU-CHINA’s partners. Besides presentations the following questions will be addressed with active participation of the audience: \n• How can global partnerships contribute to the mobilisation towards\na common vision on sustainable urban development? \n• How can global triple/quadruple helix city partnerships foster\ncapacity building/knowledge creation for implementing the NUA? \n• What framework conditions are required to allow global\npartnerships among cities to be successful? \nSpeakers\nSigrun Kabisch\, UFZ Leipzig\, Germany\, JPI Urban Europe Scientific Advisory Board\nBernhard Müller\, IOER\, Dresden\nCAO Buyang\, Tongji University\, Shanghai\nGabriela Viale Pereira\, Danube University Krems; JPI Urban Europe Project SmartGov\nWU Changhua\, President of China Redesign Hub and Vice Chair of World Green Design Organisation\nKristian Mjøen\, Trondheim Municipality\, Norway \nContact\nJohannes Riegler\njohannes.riegler@ffg.at \n 
URL:https://jpi-urbaneurope.eu/event-calendar/jpi-urban-europe-at-wuf9-networking-event/
LOCATION:Kuala Lumpur
END:VEVENT
BEGIN:VEVENT
DTSTART;TZID=UTC:20180213T100000
DTEND;TZID=UTC:20180213T113000
DTSTAMP:20260420T151452
CREATED:20180205T144608Z
LAST-MODIFIED:20180207T094033Z
UID:10222-1518516000-1518521400@jpi-urbaneurope.eu
SUMMARY:Info webinar: Sustainable and Liveable Cities and Urban Areas
DESCRIPTION:As part of the call that opened JPI Urban Europe and NSFC will arrange two info webinars where possible applicants can take part. The call is presented by representatives from the call secretariat and the participating found agencies. At the end there will be an Q&A and the opportunity for applicants to present and pitch their idea for a project. \nTime\nFebruary 13\, 10:00-11:30 CET \nAccess to meeting\nJoin the Meeting using BlueJeans \nAgenda\nHost/presenter: Magnus Brink\nSystem: BlueJeans (www.bluejeans.com) \nFor the webinars we use BlueJeans\, an easy to install and use web application for webinars. Download the application for your browser and join the meeting\, start by clicking on the link to the webinar. \n10:00 Opening and welcoming\nby webinar host Magnus Brink\, IQS \n10:05 Introduction of JPI Urban Europe and NSFC\nCall secretariat representative (Colette Bos/Carolien Maas-van der Geest /Berry Bonenkamp) \n10:10 Introduction to the call\nCall secretariat representative (Colette Bos/Carolien Maas-van der Geest /Berry Bonenkamp) \n10:40 Introduction of eCall\nJohannes Bockstefl presents the submission system eCall \n10:45 Q&A\n\n11:15 Ending and information on matchmaking possibilies \n\nFurther information\nRead more about the call
URL:https://jpi-urbaneurope.eu/event-calendar/info-webinar-sustainable-and-liveable-cities-and-urban-areas/
END:VEVENT
BEGIN:VEVENT
DTSTART;VALUE=DATE:20180228
DTEND;VALUE=DATE:20180303
DTSTAMP:20260420T151452
CREATED:20171211T134740Z
LAST-MODIFIED:20171211T134806Z
UID:9802-1519776000-1520035199@jpi-urbaneurope.eu
SUMMARY:Urban Future Conference
DESCRIPTION:https://www.urban-future.org/
URL:https://jpi-urbaneurope.eu/event-calendar/rban-future-conference/
LOCATION:Vienna
END:VEVENT
BEGIN:VEVENT
DTSTART;TZID=UTC:20180228T080000
DTEND;TZID=UTC:20180228T170000
DTSTAMP:20260420T151452
CREATED:20171211T074502Z
LAST-MODIFIED:20171211T080432Z
UID:9770-1519804800-1519837200@jpi-urbaneurope.eu
SUMMARY:Deadline for Making Cities Work
DESCRIPTION:Deadline for the call Making Cities Work \nRead more about the Making Cities Work
URL:https://jpi-urbaneurope.eu/event-calendar/deadline-for-making-cities-work/
END:VEVENT
END:VCALENDAR