BEGIN:VCALENDAR
VERSION:2.0
PRODID:-//JPI Urban Europe - ECPv6.15.20//NONSGML v1.0//EN
CALSCALE:GREGORIAN
METHOD:PUBLISH
X-WR-CALNAME:JPI Urban Europe
X-ORIGINAL-URL:https://jpi-urbaneurope.eu
X-WR-CALDESC:Events for JPI Urban Europe
REFRESH-INTERVAL;VALUE=DURATION:PT1H
X-Robots-Tag:noindex
X-PUBLISHED-TTL:PT1H
BEGIN:VTIMEZONE
TZID:UTC
BEGIN:STANDARD
TZOFFSETFROM:+0000
TZOFFSETTO:+0000
TZNAME:UTC
DTSTART:20170101T000000
END:STANDARD
END:VTIMEZONE
BEGIN:VEVENT
DTSTART;VALUE=DATE:20180920
DTEND;VALUE=DATE:20180921
DTSTAMP:20260420T151421
CREATED:20180905T125924Z
LAST-MODIFIED:20180906T121221Z
UID:12206-1537401600-1537487999@jpi-urbaneurope.eu
SUMMARY:10 Years Joint Programming
DESCRIPTION:Achievements and the Way Forward\nThis year the Joint Programming Process (JPP) celebrates 10 years and as part of the development of the next EU Framework Programme (Horizon Europe)\, the role of the 10 joint programme initiatives (JPIs) is under discussion. Based on the experiences of the JPIs and their recently presented long-term visions and strategies\, a conference is organised by JPI Urban Europe and the Austrian Research Promotion Agency – FFG in cooperation with all JPIs and on behalf of Austrian Federal Ministry for Transport\, Innovation and Technology – BMVIT and. Austrian Federal Ministry of Education\, Science and Research – BMBWF.  The conference focuses on the initiatives role and contribution to achieve the UN Sustainable Development Goals (SDGs). \nThe conference is a means to position the JPIs as hubs for coordinating the partnership landscape in their respective areas\, as well as an arena for stakeholders to share their experiences. Participants will be gathered to discuss issues such as the future role of JPIs in FP9 with regard to international policies and to reflect on the establishing of mission-oriented R&I programmes. Further\, the common position of the initiatives regarding the next development phase will be presented. \nTarget groups\nJPIs\, GPC\, ERAC\, European Commission\, National Representatives\, Research Organisations \n\nContact\nFor questions or comments\, please contact the organisational team: \nManagement: Margit Noll\, margit.noll@ffg.at\nSecretariat: Sarah Theierling\, sarah.theierling@ffg.at
URL:https://jpi-urbaneurope.eu/event-calendar/10-years-joint-programming/
LOCATION:Wolke 21\, Leonard-Bernstein-Straße 10\,\, Vienna\, 1220\, Austria
END:VEVENT
END:VCALENDAR