BEGIN:VCALENDAR
VERSION:2.0
PRODID:-//JPI Urban Europe - ECPv6.15.20//NONSGML v1.0//EN
CALSCALE:GREGORIAN
METHOD:PUBLISH
X-ORIGINAL-URL:https://jpi-urbaneurope.eu
X-WR-CALDESC:Events for JPI Urban Europe
REFRESH-INTERVAL;VALUE=DURATION:PT1H
X-Robots-Tag:noindex
X-PUBLISHED-TTL:PT1H
BEGIN:VTIMEZONE
TZID:UTC
BEGIN:STANDARD
TZOFFSETFROM:+0000
TZOFFSETTO:+0000
TZNAME:UTC
DTSTART:20180101T000000
END:STANDARD
END:VTIMEZONE
BEGIN:VEVENT
DTSTART;TZID=UTC:20190111T130000
DTEND;TZID=UTC:20190111T140000
DTSTAMP:20260421T123227
CREATED:20181112T134909Z
LAST-MODIFIED:20181217T150244Z
UID:12600-1547211600-1547215200@jpi-urbaneurope.eu
SUMMARY:Urban Lunch Talks #3 From Urban Resilience to Robustness
DESCRIPTION:Cities and urban areas drive sustainable urban development and realise green agendas\, as well as tackle climate change and safeguard urban eco-economies. A widespread recognition of good practice\, rewards and awards\, and business models that fully address social and environmental targets is central in this respect. As long as e.g. climate change action entails an integrated approach to adaptation that facilitates more liveable cities for people\, and a good balance between mitigation and adaptation measures\, urban resilience can be in synergy with overall well-being and robustness.  \nHence\, they need to ensure that various actions to secure urban robustness and resilience\, understood in a wide sense\, does not lead to further or new inequalities. For instance\, climate change mitigation may risk de-prioritisation as climate change adaptation dominate in city authorities’ responses\, which could leave cities and urban areas in various kinds of turbulence generated by climate change. \nRegister here \n  \nThe Urban Lunch Talks are an introduction to the dilemma-driven approach of the refurbished Strategic Research and Innovation Agenda (SRIA 2.0)\, which will be launched at the JPI Urban Europe Policy Conference in February 2019. The SRIA 2.0 has identified four urban dilemmas which will be explored separately in this webinar series.
URL:https://jpi-urbaneurope.eu/event-calendar/urban-lunch-talk-3-from-resilience-to-urban-robustness/
END:VEVENT
BEGIN:VEVENT
DTSTART;TZID=UTC:20190125T130000
DTEND;TZID=UTC:20190125T140000
DTSTAMP:20260421T123227
CREATED:20181112T135017Z
LAST-MODIFIED:20181217T150331Z
UID:12602-1548421200-1548424800@jpi-urbaneurope.eu
SUMMARY:Urban Lunch Talks #4 Sustainable Land-use and Urban infrastructures
DESCRIPTION:Cities and urban areas in general attract people and create positive effects out of agglomeration\, density\, and diverse and intersecting infrastructures and facilities. These positive effects of urbanisation are underpinned by integrated urban planning and management by public administrations and across diverse public and private actors. Particularly supported by public engagement and participation in decision- making relating to land-use management\, flows of people\, flows of information and resources\, place-making\, and impact on existing settlements and environs affected.  \nAt the same time there are also consequently risks involved and currently increasingly wicked problems around e.g. congestion and accessibility\, loss of identity or demand/waste of natural resources. Furthermore\, urban areas may succumb to conflict and clashes between powers\, mismanagement of transportation flows\, existing tensions intensify and severely delimited progress towards sustainable urbanisation will ensue. Added to this\, increased spatial and social inequalities between city centres and suburbs may be caused by increasing economic polarisation\, segregation and gentrification dynamics\, suburban sprawl\, and shrinking cities in functional regional contexts. \nRegister here \n  \nThe Urban Lunch Talks are an introduction to the dilemma-driven approach of the refurbished Strategic Research and Innovation Agenda (SRIA 2.0)\, which will be launched at the JPI Urban Europe Policy Conference in February 2019. The SRIA 2.0 has identified four urban dilemmas which will be explored separately in this webinar series.
URL:https://jpi-urbaneurope.eu/event-calendar/urban-lunch-talk-4-sustainable-land-use-and-urban-infrastructures/
END:VEVENT
END:VCALENDAR