BEGIN:VCALENDAR
VERSION:2.0
PRODID:-//JPI Urban Europe - ECPv6.15.20//NONSGML v1.0//EN
CALSCALE:GREGORIAN
METHOD:PUBLISH
X-WR-CALNAME:JPI Urban Europe
X-ORIGINAL-URL:https://jpi-urbaneurope.eu
X-WR-CALDESC:Events for JPI Urban Europe
REFRESH-INTERVAL;VALUE=DURATION:PT1H
X-Robots-Tag:noindex
X-PUBLISHED-TTL:PT1H
BEGIN:VTIMEZONE
TZID:UTC
BEGIN:STANDARD
TZOFFSETFROM:+0000
TZOFFSETTO:+0000
TZNAME:UTC
DTSTART:20190101T000000
END:STANDARD
END:VTIMEZONE
BEGIN:VTIMEZONE
TZID:Europe/Stockholm
BEGIN:DAYLIGHT
TZOFFSETFROM:+0100
TZOFFSETTO:+0200
TZNAME:CEST
DTSTART:20190331T010000
END:DAYLIGHT
BEGIN:STANDARD
TZOFFSETFROM:+0200
TZOFFSETTO:+0100
TZNAME:CET
DTSTART:20191027T010000
END:STANDARD
BEGIN:DAYLIGHT
TZOFFSETFROM:+0100
TZOFFSETTO:+0200
TZNAME:CEST
DTSTART:20200329T010000
END:DAYLIGHT
BEGIN:STANDARD
TZOFFSETFROM:+0200
TZOFFSETTO:+0100
TZNAME:CET
DTSTART:20201025T010000
END:STANDARD
BEGIN:DAYLIGHT
TZOFFSETFROM:+0100
TZOFFSETTO:+0200
TZNAME:CEST
DTSTART:20210328T010000
END:DAYLIGHT
BEGIN:STANDARD
TZOFFSETFROM:+0200
TZOFFSETTO:+0100
TZNAME:CET
DTSTART:20211031T010000
END:STANDARD
END:VTIMEZONE
BEGIN:VEVENT
DTSTART;VALUE=DATE:20200302
DTEND;VALUE=DATE:20200305
DTSTAMP:20260420T122101
CREATED:20190909T113439Z
LAST-MODIFIED:20190909T113439Z
UID:14420-1583107200-1583366399@jpi-urbaneurope.eu
SUMMARY:INTED2020
DESCRIPTION:After 14 years\, INTED has become an annual meeting point for lecturers\, researchers\, education professionals and technologists. Every year\, INTED brings together over 700 delegates from 80 different countries. It will provide the ideal opportunity to present your projects and experiences to an international audience. Also\, it will offer participants an overview of the current situation of education and new learning technologies. \nINTED2020 Proceedings will be reviewed for their inclusion in the Web of Science (Conference Proceedings Citation Index). Previous editions are already indexed. Also\, a DOI number will be assigned to each accepted paper. \nThe conference will be of intereset for professionals in the area of Education\, Development\, Innovation and New Learning Technologies. \nThe deadline for abstract submissions is November 21st\, 2019.\nAbstracts should be submitted on-line at https://iated.org/inted/online_submission \nRead more about the conference.
URL:https://jpi-urbaneurope.eu/event-calendar/inted2020/
LOCATION:Valencia\, Spain
END:VEVENT
BEGIN:VEVENT
DTSTART;VALUE=DATE:20200302
DTEND;VALUE=DATE:20200307
DTSTAMP:20260420T122101
CREATED:20191107T083850Z
LAST-MODIFIED:20191112T121919Z
UID:14908-1583107200-1583539199@jpi-urbaneurope.eu
SUMMARY:IdeaLab Workshop: Cities for the future - services and solutions
DESCRIPTION:The National Centre for Research and Development invites you to propose candidates for participation in the IdeaLab workshop financed from the European Economic Area and Norwegian Financial Mechanism\, which will be held in Otwock\, Mazovian Voivodeship (close to Warsaw)\, Poland from 2 to 6 March 2020. The goal of the workshop is to develop ground-breaking\, interdisciplinary research project ideas for services and solutions for the cities in 2040. The IdeaLab workshop is part of the Programme ‘Applied Research’ operated by the National Centre for Research and Development under the EEA and Norway Grants\, and is prepared in cooperation with the Research Council of Norway. \nThe National Centre for Research and Development invites legal entities (public or private entities\, commercial or non-commercial as well as non-governmental organisations\, including research organisation and enterprises) from Poland\, Norway\, Iceland or Liechtenstein to propose candidates for the IdeaLab workshop. The application deadline is 30 November 2019 at 16.00 CET. \nLearn more about the workshop and apply here.
URL:https://jpi-urbaneurope.eu/event-calendar/idealab-workshop-cities-for-the-future-services-and-solutions/
LOCATION:Otwock\, Mazovian Voivodeship\, Poland
END:VEVENT
BEGIN:VEVENT
DTSTART;TZID=Europe/Stockholm:20200320T130000
DTEND;TZID=Europe/Stockholm:20200320T140000
DTSTAMP:20260420T122101
CREATED:20200225T120425Z
LAST-MODIFIED:20200403T083835Z
UID:15621-1584709200-1584712800@jpi-urbaneurope.eu
SUMMARY:Webinar: Urban Lunch Talk #11- Innovative governance after the 10th World Urban Forum: How can local authorities benefit from rethinking governance?
DESCRIPTION:EDIT: Click here to listen to the recording of this webinar. \nPoint of departure..\nIn the current digital transition\, urban governance may risk implementing suboptimal or segregating technical solutions unless city administrations work with capacity building in public innovation governance and integrated urban planning to expand the current policy scope in many urban digitalisation efforts to include issues such as poverty\, gender\, education\, and marginalised neighbourhoods. Urban governance has an increasingly networked character (in contrast to the ‘government’ ideal in the 20th Century). In general urban governance processes are ‘flattening out’ an assuming a less vertically hierarchical structure\, this is occurring at different paces with varying dynamics depending on the different regions. Inevitably\, it leads to the decentralisation of power. (Source: SRIA 2.0) \n​The quality of urban places in cities is typically not the product of a single intervention but results from the accumulation over time of a complex combination of factors\, behaviours\, and decisions from multiple stakeholders. This webinar is a collaboration with URBAN MAESTRO. The project looks at the ways European cities are being designed and financed\, focusing on innovative ways of generating and implementing urban spatial quality. \nDiscussion questions \n\n\n\n\nMust governance become more “innovative” if we are to succeed with global and European sustainability targets?\nWhat does it mean in practice to build capacity for governance to work with dilemmas in the built environment?\n\nHow can innovative governance play a role in improving the built environment? \nHow can you work with governance issues across different cultures\, in ways that contribute to necessary urban transitions?\n \nMeet…\n\n\n\n\n\nCecilia Bertozzi: Urban governance expert\, Urban Maestro project at the United Nations Human Settlements Programme (UN-Habitat)\nLiliane Mupende Uwanziga: Independent Consultant-Sustainable Urbanization. Former Director of Urban Planning and Construction\, One Stop Centre- City of Kigali\, Rwanda\nKarina Landman\, Associate Professor\, Department of Town & Regional Planning\, University of Pretoria\, South Africa\nBahanur Nasya\, Eutropian: Architect\, film producer and project manager of PlaceCity. The goal is to gather proven placemaking tools\, test them in real life case studies and make them readily available to every city in Europe.  PlaceCity partners with Placemaking Europe.\nParticipants from anywhere in the world who will join the conversation through the chat room\, polls and Q&A sessions. Previous Urban Lunch Talks have attracted visitors from more than twentyfive different countries\, representing urban administration and public authorities\, research communities\, business representatives and civil society.\n \nMaterial:\n>Watch the recording \n>Presentation slides  \n \n\nFootnote:\nJust like in our Agora\, the Urban Lunch Talks are a meeting space and an invitation to the JPI Urban Europe community. The final content for the talks depends on what you\, as a participant\, bring to the (lunch) table: what urban issue do you want to talk about and why? You can listen to the invited guests\, exchange in the chat\, drop discussion questions in the Q&A function and vote in polls. \nThis event is co-organised with the UN Habitat Urban Maestro project where JPI Urban Europe is one of the advisors. Some of the guests in this talk participated in the tenth World Urban Forum in Abu Dhabi 8-13 February 2020 and will share their learnings and take-aways with regards to innnovative governance and sustainable urban places.
URL:https://jpi-urbaneurope.eu/event-calendar/ult-11-innovative-governance/
END:VEVENT
END:VCALENDAR