BEGIN:VCALENDAR
VERSION:2.0
PRODID:-//JPI Urban Europe - ECPv6.15.20//NONSGML v1.0//EN
CALSCALE:GREGORIAN
METHOD:PUBLISH
X-WR-CALNAME:JPI Urban Europe
X-ORIGINAL-URL:https://jpi-urbaneurope.eu
X-WR-CALDESC:Events for JPI Urban Europe
REFRESH-INTERVAL;VALUE=DURATION:PT1H
X-Robots-Tag:noindex
X-PUBLISHED-TTL:PT1H
BEGIN:VTIMEZONE
TZID:UTC
BEGIN:STANDARD
TZOFFSETFROM:+0000
TZOFFSETTO:+0000
TZNAME:UTC
DTSTART:20190101T000000
END:STANDARD
END:VTIMEZONE
BEGIN:VTIMEZONE
TZID:Europe/Stockholm
BEGIN:DAYLIGHT
TZOFFSETFROM:+0100
TZOFFSETTO:+0200
TZNAME:CEST
DTSTART:20190331T010000
END:DAYLIGHT
BEGIN:STANDARD
TZOFFSETFROM:+0200
TZOFFSETTO:+0100
TZNAME:CET
DTSTART:20191027T010000
END:STANDARD
BEGIN:DAYLIGHT
TZOFFSETFROM:+0100
TZOFFSETTO:+0200
TZNAME:CEST
DTSTART:20200329T010000
END:DAYLIGHT
BEGIN:STANDARD
TZOFFSETFROM:+0200
TZOFFSETTO:+0100
TZNAME:CET
DTSTART:20201025T010000
END:STANDARD
BEGIN:DAYLIGHT
TZOFFSETFROM:+0100
TZOFFSETTO:+0200
TZNAME:CEST
DTSTART:20210328T010000
END:DAYLIGHT
BEGIN:STANDARD
TZOFFSETFROM:+0200
TZOFFSETTO:+0100
TZNAME:CET
DTSTART:20211031T010000
END:STANDARD
END:VTIMEZONE
BEGIN:VEVENT
DTSTART;VALUE=DATE:20200403
DTEND;VALUE=DATE:20200404
DTSTAMP:20260420T134852
CREATED:20191216T141847Z
LAST-MODIFIED:20200309T095620Z
UID:15185-1585872000-1585958399@jpi-urbaneurope.eu
SUMMARY:*CANCELLED* AGORA workshop about Positive Energy Districts at the Urban Future Global Conference in Lisbon
DESCRIPTION:Event Cancelled! \nDue to travel restrictions connected to the CoV-19 outbreak\, we are sadly forced to cancel the PED AGORA Workshop on 03 April in Lisbon. Also\, UFGC 20 has been cancelled. We are currently working on an alternative for the event\, either moving it to fall 2020 or offering an online formate after Easter. We will keep you updated! \n*** \nThe Positive Energy Districts (PED) Programme will be at the Urban Future Global Conference\, 1 – 3 April in Lisbon and organize an AGORA workshop as a side event to the conference on 3 April. Urban stakeholders are welcome to discuss strategies towards the European-wide implementation of PEDs\, bring in their own perspectives and reflect on current activities. \nThere is a wide range of approaches\, strategies and solutions regarding the achievement of climate targets and the energy transition in the urban context. To create a common vision and to position the concept of PEDs\, the PED Programme has developed a framework definition that needs specification and operationalisation in local contexts. \nThe AGORA workshop on PEDs aims at developing\, in an interactive setting\, a joint understanding of PEDs through various stakeholder groups by: \n\nSharing experiences on different approaches to the PED concept\nElaborating the operationalization of the PED Framework according to regional/local perspectives\nIdentifying and elaborating roles and perspectives of different stakeholder groups regarding the PED concept\n\n\nMore info:\nWorkshop Agenda\nSET-plan 10 key actions\nAbout the PED program\n\nTime:\n\nApril 3\, 2020\, 9:00 – 15:00\, site visit: 15:30 – 17:30 \nVenue: \nLisbon Green Capital 2020 Headquarters\nPraça do Municipio\, 1100-038 Lisboa\nhttps://lisboagreencapital2020.com/ \n\nContact: \nChristoph Gollner\, christoph.gollner@ffg.at \nRegistered participants will receive more information\, a detailed agenda of the workshop as well as practical information in due course. \n 
URL:https://jpi-urbaneurope.eu/event-calendar/ped-agora-workshop-lisbon/
LOCATION:   Lisbon Green Capital 2020 Headquarters\, Praça do Municipio\, Lisbon\, 1100-038\, Portugal
CATEGORIES:PED
END:VEVENT
BEGIN:VEVENT
DTSTART;TZID=Europe/Stockholm:20200429T123000
DTEND;TZID=Europe/Stockholm:20200429T140000
DTSTAMP:20260420T134852
CREATED:20200414T103205Z
LAST-MODIFIED:20200506T062529Z
UID:15925-1588163400-1588168800@jpi-urbaneurope.eu
SUMMARY:Urban Lunch Talk 12: Taking action on the urban land-use and infrastructure dilemma
DESCRIPTION:What role does urban design play in the food-water-energy nexus? How will the liveable and healthy city be achieved in the new decade- and  post the Covid-19 pandemic? Even though there are no “one size fits all”-answers to urban dilemmas around land-use\, health and infrastructures\, this webinar will explore some lessons learned. Listen to the recording on our YouTube channel! \n\n\n\n\n\n\nYou are currently viewing a placeholder content from YouTube. To access the actual content\, click the button below. Please note that doing so will share data with third-party providers. \n More Information \n Unblock content Accept required service and unblock content \n \n \n\nPoint of Departure…\nPublic spaces in cities are ideally attractive to all and spaces for wellbeing and health (for example stimulating people to move). Cities and urban areas in general attract people and create positive effects out of agglomeration\, density\, and diverse and intersecting infrastructures and facilities. There are risks involved and increasingly wicked problems around congestion and accessibility\, loss of identity or demand/waste of natural resources. Urban areas may succumb to conflict and clashes between powers\, mismanagement of transportation flows and existing tensions. Increased spatial and social inequalities between different types of urban areas may be caused by increasing economic polarisation\, segregation and gentrification dynamics\, suburban sprawl\, and shrinking cities (SRIA 2.0\, p. 24). \nThe interactions between food\, water and energy are of great interest to policy\, science and the society at large\, today and even more so in the upcoming decades. Challenges connected with population increase and food shortages\, scarce water and insufficient energy resources needs solutions. Health and welfare can be supported through well-conceived and managed urban built environments and communities. To safeguard this\, these kinds of infrastructures\, many times urban commons\, require robust co-design with multi-stakeholder approaches and long-term provision of technical expertise. A growth of urban frugal innovation might support such developments (SRIA 2.0\, p. 22). \nDiscussion Questions\n– What role does urban design play in the food-water-energy nexus?\n– How will the liveable and healthy city be achieved in the new decade- and post Covid-19?\n– Will the health benefits of open spaces\, outdoor exercise and access to fresh air become more valued by local governments after the Covid-19 pandemic? \nProgram (CEST/Stockholm time)\n12.30 Warm-up project presentation by the M-NEX project (see below)\, chat opens\n13.00 The Urban Lunch Talk starts\n14.00 The Urban Lunch Talk ends\n14.15 Chat closes\n \nMeet…\nAnna Grichting: Anna is the Lead Resesarch Consultant at Qatar University with the M-NEX project\, active in Doha\, Belfast\, Detroit\, Sydney\, Tokyo and Amsterdam. M-NEX focuses on urban design practice and sees urban agriculture as a key facilitator of the food-water-energy-nexus\, as it needs water and energy to become productive. Working directly with living labs in some of the most vulnerable communities in the partner cities\, the team co-designs new food futures with stakeholders that can help make stakeholder less vulnerable to forces disturbing the nexus. \nCristina Clotet Ollé: Cristina is an Architect at the Institut Català del Sòl (INCASÒL)\, member of the Urban Agenda Partnership on Sustainable Use of Land and Nature-Based Solutions. Cristina’s work involves around managing under-used land\, sustainable & circular reuse of spaces and buildings\, and adaptive re-use of the built heritage for a greener Europe. You can read the brochure of the Sustainable Use of Land and nature-based solution partnership here. You find the Handbook on Sustainable and Circular re-use of spaces and buildings\, developed by SUL&NBS and Circular Economy partnerships\, here. \nMarc Sansom: Marc is the Managing Director at SALUS Global Knowledge Exchange and works with the Healthy City Design initative which provides an interdisciplinary forum for policy advisors\, researchers and practitioners around the globe. This years topic is “Designing resilient communities: Recovery\, renewal and renaissance”- see the Call for Papers here. Marc has previously been the chief operations officer for the International Academy for Design & Health and founding editor of World Health Design magazine. \nSimon Bell: Simon works with Landscape Architecture at the Estonian University of Life Sciences and will reflect on results of the BlueHealth initative in relation to planning and designing urban blue spaces for human health and well-being. BlueHealth is a pan-European research initiative investigating the links between environment\, climate and health and focuses on water-based environments in towns and cities. It is funded by the European Union’s Horizon 2020 programme\, read more here. \nAli Hainoun: Ali works as senior scientist and energy systems analyst at the Austrian Institute of Technology. He is involved in numerous research activities and international projects on sustainable development\, mitigation and decarbonisation of urban energy systems. Ali is the coordinator of SUNEX project which operates in four case study cities (Berlin\, Bristol\, Doha\, Vienna)\, each with different socio-economic and climate characteristics and consumption patterns. The project aims to provide a policy guideline to support urban governance in designing sustainable FWE-strategies. \nSUNEX and M-NEX are part of the Sustainable Urbanisation Global Initiative (SUGI)/Food-Water-Energy Nexus call: jointly established by the Belmont Forum and JPI Urban Europe to bring together fragmented research and expertise across the globe for innovative solutions to the Food-Water-Energy Nexus challenge. \nHost: Caroline Wrangsten\, Assistant Project Manager\, JPI Urban Europe\nChat host: Johannes Riegler\, Stakeholder Involvement Officer\, JPI Urban Europe
URL:https://jpi-urbaneurope.eu/event-calendar/urban-lunch-talk-12-how-to-work-with-the-urban-land-use-and-infrastructure-dilemma/
END:VEVENT
END:VCALENDAR