BEGIN:VCALENDAR
VERSION:2.0
PRODID:-//JPI Urban Europe - ECPv6.15.20//NONSGML v1.0//EN
CALSCALE:GREGORIAN
METHOD:PUBLISH
X-WR-CALNAME:JPI Urban Europe
X-ORIGINAL-URL:https://jpi-urbaneurope.eu
X-WR-CALDESC:Events for JPI Urban Europe
REFRESH-INTERVAL;VALUE=DURATION:PT1H
X-Robots-Tag:noindex
X-PUBLISHED-TTL:PT1H
BEGIN:VTIMEZONE
TZID:UTC
BEGIN:STANDARD
TZOFFSETFROM:+0000
TZOFFSETTO:+0000
TZNAME:UTC
DTSTART:20200101T000000
END:STANDARD
END:VTIMEZONE
BEGIN:VEVENT
DTSTART;TZID=UTC:20210218T130000
DTEND;TZID=UTC:20210218T143000
DTSTAMP:20260419T204753
CREATED:20210126T121530Z
LAST-MODIFIED:20210215T121751Z
UID:18151-1613653200-1613658600@jpi-urbaneurope.eu
SUMMARY:Information webinar in ERA-NET Cofund Urban Transformation Capacities
DESCRIPTION:Welcome to an information webinar in ERA-NET Cofund Urban Transformation Capacities opening on 29 January 2021. The webinar is a chance to learn more about the call and ask questions to the call secretriat.  \nEDIT: Due to the large interest in this webinar\, seats will be distributed by first come first served when the webinar opens. The webinar will be recorded and made available on the call page. \nProgram\n13.00: Welcome and practical info\n13.05: Welcome to JPI Urban Europe – Margit Noll\n13.15: What are urban transformation capacities\, and why this call? – Jonas Bylund\n13.25: Call presentation by the international call secretariat – Elena Simion\n14.00 (ca): Q&A using the Zoom webinar Q&A function\n14.28: Future events\, timeline and matchmaking opportunities\n14.30: Webinar ends\n14.45: Chat closes \nAbout the Urban Transformation Capacities call\nThe ERA-NET Cofund Urban Transformation Capacities (ENUTC) invites researchers\, urban government authorities\, – including cities and municipalities\, – businesses\, civil society and other stakeholders to build transnational consortia to create innovation and research projects that enable and support capacity building for urban transformations. Learn more and see upcoming events on the call page. \nThis page is being updated continuously. \n>>Register
URL:https://jpi-urbaneurope.eu/event-calendar/information-webinar-era-net-cofund-urban-transformation-capacities/
END:VEVENT
BEGIN:VEVENT
DTSTART;TZID=UTC:20210219T090000
DTEND;TZID=UTC:20210219T120000
DTSTAMP:20260419T204753
CREATED:20210112T090605Z
LAST-MODIFIED:20210112T090605Z
UID:18117-1613725200-1613736000@jpi-urbaneurope.eu
SUMMARY:The OptiMaaS project: 5th International Expert Panel and project insights
DESCRIPTION:OptiMaaS develops new methods and processes addressing the needs of public and private mobility actors to provide optimized Mobility as a Service (MaaS) offers. OptiMaas is supported in the Making Cities Work call. You are now welcome to a panel to take part of the project’s insgihts and conclusions. In which ways does MaaS interweave with mobility stations\, on-demand services\, political processes\, urban planning\, simulations and financing models? What are users really interested in?\n  \nSubject:                 Discussion of OptiMaaS insights & conclusions \nDate:                       19.02.2021 \nTime:                      09:00 to 12:00 \nPlace:                     Zoom – please register under following Link \n  \nProgram\n8:45 – 9:00 Online Check-in \n09:00 – 09:15 Welcome and thematic overview \n\nAngela Muth | tbwr\n\n09:15 – 10:15 Impulse presentations – Findings and conclusions of OptiMaaS \nMobility points – localization and financing models \n\nStefan Arbeithuber | MO.Point\n\nOn Demand Services within MaaS – app and users perspective\nBianca Humer | Upstream\n\nInfluence of MaaS on the modal split – the use of computational models as data driven decision support\nBenjamin Biesinger | AIT\nPolicy recommendations and standards for urban non-core areas\nThomas Vith | UIV & Cyriac George | TØI\n\n10:15 – 10:25 Break \n10:25 – 11:00 Breakout sessions 1 \n11:00 – 11:05 Break \n11:05 – 11:40 Breakout sessions 2 \n11:40 – 12:00 Summary and conclusions \n  \n>> Register\n>> Learn more about OptiMaaS on this  fact sheet and at www.optimaas.eu
URL:https://jpi-urbaneurope.eu/event-calendar/the-optimaas-project-5th-international-expert-panel-and-project-insights/
END:VEVENT
BEGIN:VEVENT
DTSTART;VALUE=DATE:20210222
DTEND;VALUE=DATE:20210223
DTSTAMP:20260419T204753
CREATED:20210217T071205Z
LAST-MODIFIED:20210217T071334Z
UID:18348-1613952000-1614038399@jpi-urbaneurope.eu
SUMMARY:JPI Urban Europe at the Nature of Cities Festival
DESCRIPTION:TNOC Festival pushes boundaries to radically imagine our cities for the future and is a virtual festival that spans five days with programming across all regional time zones and provided in multiple languages. The TNOC Festival offers the ability to truly connect local place and ideas on a global scale. The festival takes place from 22-26 February 2021 and is a production of The Nature of Cities. \nThe festival is a transdisciplinary event\, mixing scientists\, architects\, planners\, artists\, activists\, practitioners\, landscape architects\, policy makers\, business and social entrepreneurs\, indigenous leaders into joined conversations The festival theme “Better cities for nature and all people” explores and celebrates the environmental justice aspects of green city building. How do we achieve cities that are better for nature and all people? The aim is to build cities that are more resilient\, sustainable\, livable\, and just for everyone. \nUnfolding Doughnut Economy dilemmas in the urban anthropocene\nWelcome to JPI Urban Europe’s seed session at the festival! Re-aligning neighbourhood everyday-life along Doughnut-Economy principles is huge task that require substantial transformations: rethinking human/non-human interaction and the way urban areas are built and maintained. This Seed Session aims at chiselling-out bite-size chunks of this complexity along connected dilemmas in urban greening approaches such as nature-based-solutions and the doughnut economy model. \nWhen: 10.15 EST (GMT-5)\, Monday 22 Feb (JPI Urban Europe’s seed session) Festival goes on 22- 26 Feb.\nWhere: Online\, register to the festival: https://tnoc-festival.com/wp/#registration 
URL:https://jpi-urbaneurope.eu/event-calendar/jpi-urban-europe-at-the-nature-of-cities-festival/
END:VEVENT
BEGIN:VEVENT
DTSTART;VALUE=DATE:20210226
DTEND;VALUE=DATE:20210416
DTSTAMP:20260419T204753
CREATED:20210303T101446Z
LAST-MODIFIED:20210303T101446Z
UID:18488-1614297600-1618531199@jpi-urbaneurope.eu
SUMMARY:Matchmaking platform in ERA-NET Cofund Urban Transformation Capacities open 26 Feb - 15 April 2021
DESCRIPTION:In this matchmaking tool (B2Match)\, interested parties in the Urban Transformations Capacities call can create a profile\, partner search\, chat\, and schedule video-meetings directly in the platform.  \n>> Join the matchmaking platform
URL:https://jpi-urbaneurope.eu/event-calendar/matchmaking-platform-in-era-net-cofund-urban-transformation-capacities-open-26-feb-15-april-2021/
END:VEVENT
END:VCALENDAR