BEGIN:VCALENDAR
VERSION:2.0
PRODID:-//JPI Urban Europe - ECPv6.15.20//NONSGML v1.0//EN
CALSCALE:GREGORIAN
METHOD:PUBLISH
X-ORIGINAL-URL:https://jpi-urbaneurope.eu
X-WR-CALDESC:Events for JPI Urban Europe
REFRESH-INTERVAL;VALUE=DURATION:PT1H
X-Robots-Tag:noindex
X-PUBLISHED-TTL:PT1H
BEGIN:VTIMEZONE
TZID:UTC
BEGIN:STANDARD
TZOFFSETFROM:+0000
TZOFFSETTO:+0000
TZNAME:UTC
DTSTART:20200101T000000
END:STANDARD
END:VTIMEZONE
BEGIN:VEVENT
DTSTART;VALUE=DATE:20210628
DTEND;VALUE=DATE:20210710
DTSTAMP:20260420T164022
CREATED:20210610T111848Z
LAST-MODIFIED:20210610T111848Z
UID:19490-1624838400-1625875199@jpi-urbaneurope.eu
SUMMARY:Horizon Europe Info Days 28 June - 9 July 2021
DESCRIPTION:The 10-day event will give prospective applicants and other stakeholders of EU research and innovation the opportunity to get information and ask questions about main funding instruments\, processes of Horizon Europe and what is new. The Horizon Europe Info days will be open for participation without prior registration. The Horizon Europe info-days will address 9 themes\, each featuring a programme of exclusive discussions and hands-on sessions\, dedicated to a different cluster or part of the new programme.  \nThe 9 themes will take place following the Horizon Europe info-days calendar: \n\n28 Jun – Infrastructures\n20 & 30 Jun – Digital\, industry & space (cluster 4)\n30 June – Civil security for society (cluster 3)\n1 July – Culture\, creativity & inclusive society (cluster 2)\n1 July – The Marie Skłodowska-Curie Actions: what is new under Horizon Europe\n2 July – Health (cluster 1)\n5 & 6 July – Climate\, energy & mobility (cluster 5)\n7 & 8 July – Food\, bioeconomy\, natural resources\, agriculture & environment (cluster 6)\n9 July – European Research Area (ERA) & Widening\n\n  \n>> For more information and practical details\, visit the event website.
URL:https://jpi-urbaneurope.eu/event-calendar/horizon-europe-info-days-28-june-9-july-2021/
END:VEVENT
BEGIN:VEVENT
DTSTART;TZID=UTC:20210729T160000
DTEND;TZID=UTC:20210729T170000
DTSTAMP:20260420T164022
CREATED:20210611T094445Z
LAST-MODIFIED:20210621T094112Z
UID:19502-1627574400-1627578000@jpi-urbaneurope.eu
SUMMARY:SUGI Open House (for SUGI projects only)
DESCRIPTION:Are you part of the implementation team or a SUGI project? Welcome to the re-occurring SUGI open houses to exchange with the team and more projects on a regular basis on things that concerns you and joint activities. \nWhen: Jul 29\, 2021 10:00 Eastern Time (US and Canada)\, 16.00 CEST \n>> Register in advance for this meeting \nAbout SUGI\nThe Sustainable Urbanisation Global Initiative (SUGI)/Food-Water-Energy Nexus is a call jointly established by the Belmont Forum and the Joint Programming Initiative Urban Europe. The cooperation was established in order to bring together the fragmented research and expertise across the globe to find innovative new solutions to the Food-Water-Energy Nexus challenge.
URL:https://jpi-urbaneurope.eu/event-calendar/sugi-open-house-2/
END:VEVENT
END:VCALENDAR