BEGIN:VCALENDAR
VERSION:2.0
PRODID:-//JPI Urban Europe - ECPv6.15.20//NONSGML v1.0//EN
CALSCALE:GREGORIAN
METHOD:PUBLISH
X-WR-CALNAME:JPI Urban Europe
X-ORIGINAL-URL:https://jpi-urbaneurope.eu
X-WR-CALDESC:Events for JPI Urban Europe
REFRESH-INTERVAL;VALUE=DURATION:PT1H
X-Robots-Tag:noindex
X-PUBLISHED-TTL:PT1H
BEGIN:VTIMEZONE
TZID:UTC
BEGIN:STANDARD
TZOFFSETFROM:+0000
TZOFFSETTO:+0000
TZNAME:UTC
DTSTART:20200101T000000
END:STANDARD
END:VTIMEZONE
BEGIN:VEVENT
DTSTART;VALUE=DATE:20211201
DTEND;VALUE=DATE:20211203
DTSTAMP:20260421T080303
CREATED:20211020T131327Z
LAST-MODIFIED:20211020T132409Z
UID:20540-1638316800-1638489599@jpi-urbaneurope.eu
SUMMARY:JPI Urban Europe about 15 min cities at the POLIS Annual Conference in Gothenburg
DESCRIPTION:The POLIS Annual Conference provides an opportunity for cities and regions to showcase their transport achievements to a large audience of mobility experts\, practitioners and decision makers. JPI Urban Europe’s chair of the Management Board Margit Noll will moderate a session on 15 min cities.\nFollowing a record-breaking conference in 2020\, in which POLIS welcomed more than 900 participants\, the 2021 POLIS Annual Conference will take place on 1-2 December in Gothenburg\, Sweden. POLIS is the leading network of European cities and regions working together to develop innovative technologies and policies for local transport. \nRead more and register
URL:https://jpi-urbaneurope.eu/event-calendar/mobility-the-polis-annual-conference-in-gothenburg/
END:VEVENT
END:VCALENDAR