BEGIN:VCALENDAR
VERSION:2.0
PRODID:-//JPI Urban Europe - ECPv6.15.20//NONSGML v1.0//EN
CALSCALE:GREGORIAN
METHOD:PUBLISH
X-ORIGINAL-URL:https://jpi-urbaneurope.eu
X-WR-CALDESC:Events for JPI Urban Europe
REFRESH-INTERVAL;VALUE=DURATION:PT1H
X-Robots-Tag:noindex
X-PUBLISHED-TTL:PT1H
BEGIN:VTIMEZONE
TZID:UTC
BEGIN:STANDARD
TZOFFSETFROM:+0000
TZOFFSETTO:+0000
TZNAME:UTC
DTSTART:20210101T000000
END:STANDARD
END:VTIMEZONE
BEGIN:VEVENT
DTSTART;TZID=UTC:20220302T090000
DTEND;TZID=UTC:20220302T100000
DTSTAMP:20260421T080410
CREATED:20220127T131529Z
LAST-MODIFIED:20220127T131529Z
UID:21248-1646211600-1646215200@jpi-urbaneurope.eu
SUMMARY:Information webinar: ERA-NET Cofund Urban Accessibility and Connectivity Sino-European call
DESCRIPTION:In this second webinar for the ERA-NET Cofund Urban Accessibility and Connectivity Sino-European call\, the call secretariat will explain more about the required impact plan. Learn more about productive interactions and Theory of Change\, and the sorts of assumptions you may identify as a consortium. Following a presentation\, there will be room for questions. \nClick here to register through NWOs website
URL:https://jpi-urbaneurope.eu/event-calendar/information-webinar-enuac2/
CATEGORIES:ENUAC
END:VEVENT
BEGIN:VEVENT
DTSTART;TZID=UTC:20220302T130000
DTEND;TZID=UTC:20220302T140000
DTSTAMP:20260421T080410
CREATED:20220208T091800Z
LAST-MODIFIED:20220208T091800Z
UID:21364-1646226000-1646229600@jpi-urbaneurope.eu
SUMMARY:Energy Lunch Talk 3 – Urban Planning instrument supporting & accelerating PEDs implementation & district transformation
DESCRIPTION:In this lunch talk\, Energy Cities will explore the different urban planning instruments supporting and accelerating PEDs implementation and district transformation. \nAgenda\n13:00 -13:10 – Introduction \n13:10 – 13:25 – Learning from Vienna: Energy Zoning as urban planning instrument accelerating decarbonisation. Presentation by Stefan Sattler\, City of Vienna – Energy planning department. \n13:25 – 13:40 – Learning from Aberdeen: local heat planning and “heat networks zones” (tbc) \n13:40 – 14:00 – Open discussion \nRegister here
URL:https://jpi-urbaneurope.eu/event-calendar/energy-lunch-talk-3-urban-planning-instrument-supporting-accelerating-peds-implementation-district-transformation/
CATEGORIES:PED
END:VEVENT
BEGIN:VEVENT
DTSTART;VALUE=DATE:20220303
DTEND;VALUE=DATE:20220305
DTSTAMP:20260421T080410
CREATED:20211206T102745Z
LAST-MODIFIED:20211215T145400Z
UID:20846-1646265600-1646438399@jpi-urbaneurope.eu
SUMMARY:9th European Summit of regions and cities
DESCRIPTION:The European Summit of regions and cities is a gathering of local representatives organised every two years by the European Committee of the Regions to discuss the EU’s future challenges. The 9th European Summit of Regions and Cities\, scheduled to take place in Marseille (France) on 3-4 March 2022\, in the context of the incoming French Presidency of the Council of the EU. \nThe Summit aims to engage local and regional politicians across the EU in the debate on the Future of Europe and to show how Europe’s regions and cities play a vital role in placing citizens at the heart of Europe. \nThis event will gather high-level participants and facilitate political exchanges over major societal challenges that cities and regions currently face. Discussions will centre around resilience and how to strive for it\, in terms of health\, climate change and digitalisation. \nParticipants will also explore themes linked to cohesion and recovery. Local and regional leaders will seek the most efficient models to implement both urban and rural recovery and explore the possibilities to collaborate within and outside their respective borders by 2050. The Future of the European Union will also be looked at from the perspective of its enlargement policy and of a  renewed Euro-Mediterranean partnership. \nThe Summit will further allow for in-depth discussions on democracy\, with a specific focus on women in local politics and on Youth engagement. \nThe CoR will present its contribution to the Conference on the future of Europe at the Summit in Marseille\, one week ahead of the last plenary of the Conference. \nTo register to the Summit\, click here
URL:https://jpi-urbaneurope.eu/event-calendar/9th-european-summit-of-regions-and-cities/
LOCATION:Marseille​\, France
END:VEVENT
BEGIN:VEVENT
DTSTART;TZID=UTC:20220309T130000
DTEND;TZID=UTC:20220309T140000
DTSTAMP:20260421T080410
CREATED:20220208T091520Z
LAST-MODIFIED:20220208T091520Z
UID:21366-1646830800-1646834400@jpi-urbaneurope.eu
SUMMARY:Energy Lunch Talk 4 – Activation of developers & institutional building owners for PEDs
DESCRIPTION:In this lunch talk\, Energy Cities will explore the methods (apart from financial support) that cities can provide to activate developers to realise PEDs. Secondary (and an outlook to): What does a capacity development programme look like in a district with a heterogeneous ownership structure (not only developers but also private homeowners)? \nAgenda\n13:00 -13:10 – Introduction \n13:10 – 13:25 – Learning from Stockholm: capacity building with private developers. \n13:25 – 13:40 – Learning from Graz: TRANS-PED project (tbc) \n13:40 – 14:00 – Open discussion \nRegister here 
URL:https://jpi-urbaneurope.eu/event-calendar/energy-lunch-talk-4-activation-of-developers-institutional-building-owners-for-peds/
CATEGORIES:PED
END:VEVENT
BEGIN:VEVENT
DTSTART;TZID=UTC:20220316T090000
DTEND;TZID=UTC:20220316T100000
DTSTAMP:20260421T080410
CREATED:20220127T131951Z
LAST-MODIFIED:20220127T131951Z
UID:21250-1647421200-1647424800@jpi-urbaneurope.eu
SUMMARY:Information webinar: ERA-NET Cofund Urban Accessibility and Connectivity Sino-European call
DESCRIPTION:In this third webinar for the ERA-NET Cofund Urban Accessibility and Connectivity Sino-European call\, UEFISCDI will give a presentation about the online submission system UDiManager. What will you have to fill in online while submitting your application? More information about submission to NSFC will also be given\, followed by room for questions. \nClick here to register through NWOs website
URL:https://jpi-urbaneurope.eu/event-calendar/information-webinar-enuac3/
CATEGORIES:ENUAC
END:VEVENT
BEGIN:VEVENT
DTSTART;TZID=UTC:20220316T130000
DTEND;TZID=UTC:20220316T140000
DTSTAMP:20260421T080410
CREATED:20220208T091342Z
LAST-MODIFIED:20220208T091342Z
UID:21369-1647435600-1647439200@jpi-urbaneurope.eu
SUMMARY:Energy Lunch Talk 5 – City-wide organisation for energy district implementation
DESCRIPTION:In this talk\, Energy Cities will discuss what a city-wide organisation that supports the local realisation of energy districts (newly built and existing) looks like. How can we build a strategy to not only test in one district but start to multiply the districts’ transformation and implementation throughout the whole city? \nAgenda\n13:00 – 13:10 – Introduction \n13:10 – 13:25 – Learning from Rotterdam: gas-free districts’ approach (tbc) \n13:25 – 13:40 – Learning from Zurich: Wärme Zurich Initiative. Presentation by Silvia Banfi Frost\, City of Zurich (tbc). \n13:40 – 14:00 – Open discussion \nRegister here
URL:https://jpi-urbaneurope.eu/event-calendar/energy-lunch-talk-5-city-wide-organisation-for-energy-district-implementation/
CATEGORIES:PED
END:VEVENT
BEGIN:VEVENT
DTSTART;VALUE=DATE:20220322
DTEND;VALUE=DATE:20220324
DTSTAMP:20260421T080410
CREATED:20211207T155301Z
LAST-MODIFIED:20220330T100854Z
UID:20881-1647907200-1648079999@jpi-urbaneurope.eu
SUMMARY:SUGI FWE Nexus final event (invitation only)
DESCRIPTION:Are your in a SUGI Nexus funded project or one of the funding agencies behind the call? Are you involved in other JPI Urban Europe projects\, and interested in the food-water-energy nexus? Register for the SUGI FWE Nexus final event\, taking place online 22- 23 March 2022! Read this page to explore the details and the instructions for preparations together with your consortium.\nThe Sustainable Urbanisation Global Initiative (SUGI)/Food-Water-Energy Nexus is coming to an end in 2021 and most of the 15 projects have already finalized or will do so during spring. It is time to come together for the final event! \nPurpose: SUGI projects will present their most important results and together with interested parties we will take the first steps towards describing and defining the legacy of SUGI FWE Nexus. Projects will have time to deep-dive into concerns of their preference\, and work together prior to the event. \nFor whom: SUGI projects are encouraged to send 3 – 5 representatives per project. Involved funding agencies and stakeholders from cities and business are also invited and given the opportunity to learn about results and outcomes from the projects. Partners from other Urban Europe calls with a particular interest in FWE Nexus topics are also welcome to join the event on the first day. \nRegistration: Open now (scroll down). Last day to sign up to present project results and co-create the event is January 17. \nPreparations: Projects are welcome to co-create the event. More information has been sent out via email. Contact person: katarina.schylberg@iqs.se  or info@jpi-urbaneurope.eu \nTo read the program in detail\, click here! \nDraft program (can be subject to change) \nProgram\n\nDay 1: 22nd March 2022\, 13.00 – 16.00 UCT\n13.00 Welcome and introduction \n13.25 SUGI FWE Project results \n\nEmbedding the SUGI FWE Nexus projects in a policy context\n8-10 projects present their most important results and expected impacts in short 3 minutes’ presentations\nFeedback from Expert Committee on Innovation and Impact Delivery\n\n14.20 Break  \n14.30 Break-out sessions exploring SUGI Nexus project results  \n\nModerated break-out sessions with 10 mins’ presentations from three SUGI Nexus projects followed by questions and discussions\n\n15.30 Panel discussion: What can be the SUGI legacy for urban transition? \n\nRepresentatives from JPI Urban Europe\, Belmont Forum\, European Commission and other relevant organisations\n\n16.00 End of first day  \n  \nDay 2: 23rd March 2022\, 13.00 – 16.00 UCT\n13.00 Plenary session with sensemaking \n13.15 Synthesis across projects  \n\nBreakout sessions prepared and led by members from 2-3 SUGI FWE projects. The aim of these sessions are to provide a space for projects to share insights and take first steps to define key messages and insights to form the SUGI Nexus legacy.\n\n14.15 Break  \n14.30 Shaping the SUGI Nexus legacy  \n\nInteractive and moderated break-sessions using MURAL/CONCEPT board to shape key insights and take aways from SUGI Nexus projects and the initiative\n\n15.00 Looking ahead     \n\nRemaining activities in the final SUGI Nexus year\nFuture funding opportunities\n\n15.25 Joint reflections on the SUGI Nexus initiative  \n\nInteractive session using MENTI where the SUGI implementation team and projects together reflect over the SUGI NEXUS initiative\n\n15.50 Wrapping up SUGI projects’ final event  \n16.00 Optional meet and greet with the funding agencies
URL:https://jpi-urbaneurope.eu/event-calendar/sugi-nexus-final-event/
END:VEVENT
BEGIN:VEVENT
DTSTART;VALUE=DATE:20220329
DTEND;VALUE=DATE:20220401
DTSTAMP:20260421T080410
CREATED:20211203T115020Z
LAST-MODIFIED:20211215T144754Z
UID:20803-1648512000-1648771199@jpi-urbaneurope.eu
SUMMARY:Nature of Cities Festival
DESCRIPTION:TNOC Festival pushes boundaries to radically imagine our cities for the future. \nA virtual festival that spans 3 full days with programming across all regional time zones and is provided in multiple languages. A core philosophy of the festival is to foster inclusivity and lower barriers to participation. The festival focuses on facilitating transdisciplinary dialogue\, small group workshops\, arts engagement\, and fostering a collaborative spirit around solutions for how to build cities that are better for nature and all people. \nMore information will follow on the official website.
URL:https://jpi-urbaneurope.eu/event-calendar/nature-of-cities-festival/
END:VEVENT
BEGIN:VEVENT
DTSTART;TZID=UTC:20220330T090000
DTEND;TZID=UTC:20220330T100000
DTSTAMP:20260421T080410
CREATED:20220127T132057Z
LAST-MODIFIED:20220127T132057Z
UID:21252-1648630800-1648634400@jpi-urbaneurope.eu
SUMMARY:Information webinar: ERA-NET Cofund Urban Accessibility and Connectivity Sino-European call
DESCRIPTION:In this fourth and final webinar for the ERA-NET Cofund Urban Accessibility and Connectivity Sino-European call\, the call secretariat will provide a brief summary of the topics discussed in the three previous webinars. \nClick here to register through NWOs website
URL:https://jpi-urbaneurope.eu/event-calendar/information-webinar-enuac-2/
CATEGORIES:ENUAC
END:VEVENT
END:VCALENDAR