BEGIN:VCALENDAR
VERSION:2.0
PRODID:-//JPI Urban Europe - ECPv6.15.20//NONSGML v1.0//EN
CALSCALE:GREGORIAN
METHOD:PUBLISH
X-WR-CALNAME:JPI Urban Europe
X-ORIGINAL-URL:https://jpi-urbaneurope.eu
X-WR-CALDESC:Events for JPI Urban Europe
REFRESH-INTERVAL;VALUE=DURATION:PT1H
X-Robots-Tag:noindex
X-PUBLISHED-TTL:PT1H
BEGIN:VTIMEZONE
TZID:UTC
BEGIN:STANDARD
TZOFFSETFROM:+0000
TZOFFSETTO:+0000
TZNAME:UTC
DTSTART:20220101T000000
END:STANDARD
END:VTIMEZONE
BEGIN:VEVENT
DTSTART;TZID=UTC:20231108T140000
DTEND;TZID=UTC:20231110T130000
DTSTAMP:20260421T121945
CREATED:20230707T095709Z
LAST-MODIFIED:20231109T131749Z
UID:23836-1699452000-1699621200@jpi-urbaneurope.eu
SUMMARY:Joint Mid-term and Kick-off Event for ENUTC and BTC calls followed by Agora Dialogue
DESCRIPTION:November 8–10\, participants from both ERA-NET Urban Transformation Capacities (ENUTC) calls\, including the Building Transformation Call (BTC)\, will gather in Delft in The Netherlands for inspiration and mutual exchange\, onsite and online. Projects from the co-funded call will meet for their mid-term event\, and the projects who are to be selected for the BTC call will see each other for a kick-off. Wednesday afternoon the funding agencies will meet for a Consortium meeting\, and there will be a possibility for the projects to meet up separately. Thursday will be dedicated to the joint mid-term and kick-off event\, and Friday morning will revolve around a Strategic Agora Dialogue\, onsite in The Hague. The days will revolve around the theme of the new call – what art and design mean for urban transformation. \n  \n \n  \nPurpose \nProject partners in the co-funded call will meet for a mid-term gathering\, and the projects who are to be selected for the BTC call will meet for kicking off together. Project partners from both calls are jointly invited to participate for inspiration and mutual exchange. \nThe purpose of the joint event is to: \n\nprovide a forum for exchange for all projects within the ENUTC calls\,\nhave strategic discussions and exchange on impact assessment (mid-term)\,\ninform about ENUTC communication\, support activities and requirements for the coming years\nreport on your projects’ research so far (mid-term)\,\nfoster consortia spirit and a sense of community\, and\nnetworking.\n\nThe Strategic Agora dialogue will include in-depth conversations and a wider spectrum of participants. \nAim \nThe event will facilitate exchange and community building among the projects and their project partners\, support measures for projects to strengthen communication and impact creation\, and inform about formal requirements on monitoring and reporting\, and guidelines and support activities. The event will also connect the projects to a wider stakeholder community. \nFor whom \nProject coordinators and project partners are invited to the joint mid-term and kick-off event\, as well as the Strategic Agora Dialogue. In order to build a multi-stakeholder community for the ENUTC\, project partners from municipalities\, business\, local communities and research are encouraged to participate in both events. \nPlease note\, 2-3 representatives from each project are expected to participate in the meeting. \nDates \nNovember 8: Funding agencies will meet for a Consortium meeting (agenda is sent out separately). We encourage projects to join us already on the Wednesday for registration which will be open from 1 pm\, and we may help out finding a location to host a project meeting. The Consortium meeting (only funding agencies) ends with a mingle activity\, and a toast will be given at 5 pm – projects are welcome to mingle. \nNovember 9: The joint mid-term and the kick-off will start on the Thursday\, onsite and online as a hybrid event. The day will end with a social activity. \n9.00–10.00 Registration\n10.00–10.30 Introduction\n– Michael Creek\, moderator\n– Alexandre Torres\, online moderator\n– Esther van der Wel\, NWO\n– Marcus van Leeuwen\, SIA\n– Alberto Pozza\, EC\n– Kristina Laurell\, Formas\n– Ann Maudsley\, Formas\n10.30–12.00 Projects mingle & presentations\n12.00–12.45 Lunch\n12.45–13.30 Guided tours\, Green village\n13.30–15.15 Parallel sessions (including fika)\n– Urban living labs\, Ulrike Stroissnig\, FFG\n– Public infrastructure for change\, Rianne Melik\, ILIT\n– Inclusive citizen urban transformation\, Isabel Ruiz\, Coolschools\n15.15–16.00 Communication spot: Make social social again\n– Sophia Koistinen\, Formas\n16.00–16.15 Closing remarks and connecting to Driving Urban Transitions\n– Kristina Laurell\, Formas\n– Ann Maudsley\, Formas\n16.15 BTC projects q/a (15–30 minutes)\n– Ann Maudsley\, Formas\n– Elena Simion\, UEFISCDI\n19.00 Dinner \nNovember 10: The Strategic Agora Dialogue\, only onsite\, will take place in the morning on the Friday\, ending with a lunch together. The purpose is to discuss further what art and design mean for urban transformation\, accompanied by exciting projects. \n9.00–10.00 Registration\n10.00–13.00 Agora dialogue about involving art and design for urban transformation\n– Dramalabs (Contra)\n– Susdesign\n– Soundtrackcity\n13.00 Lunch \nLocations \nThe joint mid-term and kick-off hybrid event will be located in Delft in The Netherlands at The Green Village\, Van den Broekweg 4. The Strategic Agora Dialogue\, which will be only onsite\, will be arranged in The Hague\, Laan van Nieuw Oost-Indië 300. \nRegistration \nRegistration per invitation is closed. \nPlease\, see the information package via e-mail. Instruction for preparations is e-mailed to project coordinators.
URL:https://jpi-urbaneurope.eu/event-calendar/joint-mid-term-and-kick-off-event-for-enutc-and-btc-calls-followed-by-agora-dialogue/
CATEGORIES:AGORA,ENUTC
END:VEVENT
BEGIN:VEVENT
DTSTART;TZID=UTC:20231110T093000
DTEND;TZID=UTC:20231110T140000
DTSTAMP:20260421T121945
CREATED:20231019T041049Z
LAST-MODIFIED:20231103T062831Z
UID:24185-1699608600-1699624800@jpi-urbaneurope.eu
SUMMARY:Crafting Tomorrow: The Power of Arts & Design in urban transformation
DESCRIPTION:AGORA Thematic Dialogue\nJoin us on our transformative journey in our AGORA workshop\, where we explore the intersection of arts and design with urban transformation to find new\, innovative solutions for urban areas in Europe. We will showcase inspirational projects funded and supported by ENUTC in JPI Urban Europe\, an initiative of the Urban Doers Community within the Driving Urban Transitions Partnership (DUT)\, and more. The workshop is a call to action\, inviting participants to start thinking about the integration of arts and design into their steps towards a sustainable future. By showcasing the impactful role of arts and design\, we aim to inspire participants to envision a future where urban transformation is synonymous with ecological responsibility and enhanced quality of life for all. \nWhat can you expect from your participation in the AGORA Dialogue? \n\nExchange\, discuss\, co-create: You will have the possibility to join an engaged group of change makers\, urban practitioners\, researchers and others in discussions on what is needed to drive urban transitions.\nNetworking: You will be able to connect to the AGORA community\, the informal stakeholder network maintained by JPI Urban Europe.\nCombine practical exchange of experiences with exciting discussions on urban transformation.\n\nTimeplan:\n09:30 – 10:00 Coffee & welcome \n10:00 – 13:00 AGORA workshop \n13:00 – 14:00 Lunch for all participants \nTarget group for the workshop: Representatives of public administrations\, non-governmental and grassroots initiatives\, creative and cultural sectors\, urban policy makers on various levels\, representatives of business and companies\, research and innovation community and all urban change makers working in the field of urban transitions. \nFor questions and more information\, contact ulrike.stroissnig@ffg.at \nRegister for the AGORA Thematic Dialogue\nRegistration closed.
URL:https://jpi-urbaneurope.eu/event-calendar/crafting-tomorrow-the-power-of-arts-design-in-urban-transformation/
LOCATION:NWO The Hague (Laan van Nieuw Oost-Indië 300\, 2593 CE The Hague). Further information: https://www.nwo.nl/en/how-reach-nwo-hague
END:VEVENT
END:VCALENDAR