BEGIN:VCALENDAR
VERSION:2.0
PRODID:-//JPI Urban Europe - ECPv6.15.20//NONSGML v1.0//EN
CALSCALE:GREGORIAN
METHOD:PUBLISH
X-ORIGINAL-URL:https://jpi-urbaneurope.eu
X-WR-CALDESC:Events for JPI Urban Europe
REFRESH-INTERVAL;VALUE=DURATION:PT1H
X-Robots-Tag:noindex
X-PUBLISHED-TTL:PT1H
BEGIN:VTIMEZONE
TZID:UTC
BEGIN:STANDARD
TZOFFSETFROM:+0000
TZOFFSETTO:+0000
TZNAME:UTC
DTSTART:20210101T000000
END:STANDARD
END:VTIMEZONE
BEGIN:VEVENT
DTSTART;VALUE=DATE:20220223
DTEND;VALUE=DATE:20220224
DTSTAMP:20260424T200034
CREATED:20211209T153219Z
LAST-MODIFIED:20211215T145355Z
UID:20896-1645574400-1645660799@jpi-urbaneurope.eu
SUMMARY:Circular and Regenerative Urban Economies in African Urban Areas
DESCRIPTION:Do you work with urban transitions in Africa? This workshop is part of the “Driving Urban Transition towards Sustainable and Just Futures in Africa” workshop series organised by JPI Urban Europe\, START and ICLEI Africa. More information will be announced.\n  \nJPI Urban Europe\, START and ICLEI Africa invite you to join these workshops to share your perspectives\, experiences and knowledge on sustainable and livable urban areas. The aim is to identify critical fields for action on urban transitions which have the potential to be addressed jointly. Your participation and input will help shape international outreach activities of the Driving Urban Transitions Partnership (DUT) to Africa. DUT aligns Member States’ and European Commissions’ efforts to build a critical mass for urban transitions. \nRead more
URL:https://jpi-urbaneurope.eu/event-calendar/circular-and-regenerative-urban-economies-in-african-urban-areas/
END:VEVENT
END:VCALENDAR