BEGIN:VCALENDAR
VERSION:2.0
PRODID:-//JPI Urban Europe - ECPv6.15.20//NONSGML v1.0//EN
CALSCALE:GREGORIAN
METHOD:PUBLISH
X-ORIGINAL-URL:https://jpi-urbaneurope.eu
X-WR-CALDESC:Events for JPI Urban Europe
REFRESH-INTERVAL;VALUE=DURATION:PT1H
X-Robots-Tag:noindex
X-PUBLISHED-TTL:PT1H
BEGIN:VTIMEZONE
TZID:Europe/Vienna
BEGIN:DAYLIGHT
TZOFFSETFROM:+0100
TZOFFSETTO:+0200
TZNAME:CEST
DTSTART:20230326T010000
END:DAYLIGHT
BEGIN:STANDARD
TZOFFSETFROM:+0200
TZOFFSETTO:+0100
TZNAME:CET
DTSTART:20231029T010000
END:STANDARD
BEGIN:DAYLIGHT
TZOFFSETFROM:+0100
TZOFFSETTO:+0200
TZNAME:CEST
DTSTART:20240331T010000
END:DAYLIGHT
BEGIN:STANDARD
TZOFFSETFROM:+0200
TZOFFSETTO:+0100
TZNAME:CET
DTSTART:20241027T010000
END:STANDARD
BEGIN:DAYLIGHT
TZOFFSETFROM:+0100
TZOFFSETTO:+0200
TZNAME:CEST
DTSTART:20250330T010000
END:DAYLIGHT
BEGIN:STANDARD
TZOFFSETFROM:+0200
TZOFFSETTO:+0100
TZNAME:CET
DTSTART:20251026T010000
END:STANDARD
END:VTIMEZONE
BEGIN:VEVENT
DTSTART;TZID=Europe/Vienna:20240604T150000
DTEND;TZID=Europe/Vienna:20240604T170000
DTSTAMP:20260425T012235
CREATED:20240508T083829Z
LAST-MODIFIED:20240515T134356Z
UID:24932-1717513200-1717520400@jpi-urbaneurope.eu
SUMMARY:Mapping of Circular Urban Economy Cases across Europe – Results Webinar
DESCRIPTION:The webinar will delve into results from a comprehensive mapping of best-practice cases of circular urban economies in European cities.  \nExperts from consultancy firm Sweco Sweden and Belgium led the data collection process concerning practical experiences in circular  urban transitions. Together with other experts\, they will provide insights into the structured outline of this mapping project\, including the bottom-up\, Power BI-driven methodology used to collect and compile circular urban economy cases. \nAdditionally\, the webinar will allow space to delve deeper into specific aspects of the topic at hand and interact directly with a panel of urban circularity experts. \nRegister 
URL:https://jpi-urbaneurope.eu/event-calendar/mapping-of-circular-urban-economy-cases-across-europe-results-webinar/
CATEGORIES:DUT
ATTACH;FMTTYPE=image/jpeg:/wp-content/uploads/2024/05/iStock-1780709709.jpg
END:VEVENT
END:VCALENDAR